BEGIN:VCALENDAR
VERSION:2.0
PRODID:-//evangelische-termine.de//NONSGML kigkonsult.se iCalcreator 2.18//
CALSCALE:GREGORIAN
METHOD:PUBLISH
X-WR-CALNAME:iCal Evangelische-Termine 21.04.2026
X-WR-CALDESC:iCalender von Evangelische-Termine (21.04.2026)
X-WR-TIMEZONE:Europe/Berlin
X-MS-OLK-FORCEINSPECTOROPEN:TRUE
BEGIN:VTIMEZONE
TZID:Europe/Berlin
BEGIN:STANDARD
DTSTART:19701025T030000
TZOFFSETFROM:+0200
TZOFFSETTO:+0100
RRULE:FREQ=YEARLY;BYDAY=-1SU;BYMONTH=10
TZNAME:CET
END:STANDARD
BEGIN:DAYLIGHT
DTSTART:19700329T020000
TZOFFSETFROM:+0100
TZOFFSETTO:+0200
RRULE:FREQ=YEARLY;BYDAY=-1SU;BYMONTH=3
TZNAME:CEST
END:DAYLIGHT
END:VTIMEZONE
BEGIN:VEVENT
UID:20260511T110000-40087@evangelische-termine.de
DTSTAMP:20260421T085222Z
DESCRIPTION:\nFür Engagierte: Ja\nEngagiertengruppe: Öffentlichkeitsarbeit\
 ; Ehrenamt\nVeranstaltungsort: Online\n00000 Online\nFormat der Veranstalt
 ung: Onlineveranstaltung\nAusführliche Beschreibung: In der Onlinesprechst
 unde bieten wir allen Bestands- oder Neukunden des Evangelischen Webbaukas
 tens die Möglichkeit offene Fragen zu besprechen und sich mit anderen Teil
 nehmern zur Migration oder Anwendung auszutauschen.\n\nIn diesem Termin ge
 ht es um das Schwerpunktthema Veranstaltungen.\n\nBitte nutzen Sie zur Reg
 istrierung den untenstehenden Link. Vielen Dank!\nInternetadresse: https:/
 /eu01web.zoom.us/meeting/register/mAz_BMTOSoa68BNo93pb0w\nBild Alttext: Lo
 go des Evangelischen Medienhaus der EKHN\nKosten: 0\,00 EUR
DTSTART;TZID=Europe/Berlin:20260511T110000
DTEND;TZID=Europe/Berlin:20260511T120000
LOCATION:Online: Online
SUMMARY:Onlinesprechstunde Webbaukasten mit Schwerpunktthema Veranstaltunge
 n
URL:https://termine.ekhn.de/veranstaltung_im_detail40087.html
END:VEVENT
END:VCALENDAR
