BEGIN:VCALENDAR
VERSION:2.0
PRODID:-//evangelische-termine.de//NONSGML kigkonsult.se iCalcreator 2.18//
CALSCALE:GREGORIAN
METHOD:PUBLISH
X-WR-CALNAME:iCal Evangelische-Termine 21.04.2026
X-WR-CALDESC:iCalender von Evangelische-Termine (21.04.2026)
X-WR-TIMEZONE:Europe/Berlin
X-MS-OLK-FORCEINSPECTOROPEN:TRUE
BEGIN:VTIMEZONE
TZID:Europe/Berlin
BEGIN:STANDARD
DTSTART:19701025T030000
TZOFFSETFROM:+0200
TZOFFSETTO:+0100
RRULE:FREQ=YEARLY;BYDAY=-1SU;BYMONTH=10
TZNAME:CET
END:STANDARD
BEGIN:DAYLIGHT
DTSTART:19700329T020000
TZOFFSETFROM:+0100
TZOFFSETTO:+0200
RRULE:FREQ=YEARLY;BYDAY=-1SU;BYMONTH=3
TZNAME:CEST
END:DAYLIGHT
END:VTIMEZONE
BEGIN:VEVENT
UID:20261022T180000-40381@evangelische-termine.de
DTSTAMP:20260421T122951Z
DESCRIPTION:\nFür Engagierte: Nein\nFormat der Veranstaltung: Onlineveranst
 altung\nAusführliche Beschreibung: Social Media Plattformen sind aus unser
 em Alltag kaum noch wegzudenken. Sie haben Einfluss auf unser Denken und H
 andeln\, beeinflussen nicht nur unsere Konsumentscheidungen\, sondern berü
 hren auch Fragen der eigenen Identitätsbildung: wie sehe ich mich als Frau
 \, als Mutter… Manche Geschlechterbilder\, die aktuell auf Plattformen wie
  Instagram oder TikTok verbreitet werden\, erscheinen dabei durchaus fragw
 ürdig: rückwärtsgewandt\, antifeministisch – wie z.B. das Phänomen der Tra
 dwives.\nWie funktionieren diese Beiträge\, und welche Wirkung haben sie?
 \nWelche Rolle spielt KI dabei?\nWie könnte eine alternative und feministi
 sche KI gestaltet und eingesetzt werden?\n\nDas sind einige der Fragen\, d
 enen wie in einer dreiteiligen Online-Reihe aus unterschiedlichen Perspekt
 iven nachgehen.\n\nModul 1: Konstruktion von Mütterbildern in den sozialen
  Medien\nEs gibt große Communities für Eltern und vor allem Mütter in den 
 sozialen Medien. Das erste Modul unserer Reihe konzentriert sich auf die D
 arstellungen von Mütterbildern und Care-Arbeit auf der Plattform Instagram
 . Grit Marti Lange und Hannah Lichtenthäler blicken kritisch auf die (Selb
 st-)darstellungen und deren Wirkung. Welche Verschränkungen zu Antifeminis
 mus und rechts-autoritären Ideologien gibt es?\n\nDie Referentinnen gehöre
 n zu Netzforma* e.V.\, ein feministischer netzpolitischer Verein\, der sic
 h für eine menschenrechtsbasierte\, diskriminierungssensible und demokrati
 sche Gestaltung digitaler Infrastrukturen und digitaler Öffentlichkeiten e
 insetzt. Im Zentrum der Arbeit stehen der Schutz vor digitaler Gewalt\, fa
 ire Plattformregulierung\, Datenschutz sowie Geschlechtergerechtigkeit in 
 der Digital- und KI-Politik.\n\nDiese Veranstaltungsreihe wird unterstützt
  von Evangelische Frauen in Hessen und Nassau e.V. und eaf evangelische ar
 beitsgemeinschaft familie - hessen\n\nDie online-Reihe umfasst 3 Module - 
 bitte beachten Sie auch Modul 2 und 3. Die Module können einzeln gebucht w
 erden.\nInternetadresse: https://www.zbg-ekhn.de/veranstaltungen/kurs/1-On
 line-Frauen-in-der-digitalen-Welt-Konstruktion-von-Muetterbildern-in/2026-
 D-086\nKosten: 0\,00 €\nVeranstalter: Franziska Wallenta\, Dr. Christiane 
 Wessels\, Clara Böhme\nTelefonnummer bei Rückfragen zur Veranstaltung: 061
 51 6690-199 (Franziska Wallenta)
DTSTART;TZID=Europe/Berlin:20261022T180000
DTEND;TZID=Europe/Berlin:20261022T200000
LOCATION:: Ohne Ort
SUMMARY:Online: Frauen in der digitalen Welt: Objekt - Konsumentin - Akteur
 in\; Konstruktion von Mütterbildern in den sozialen Medien ::  Modul 1: Ko
 nstruktion von Mütterbildern in den sozialen Medien
URL:https://termine.ekhn.de/veranstaltung_im_detail40381.html
END:VEVENT
END:VCALENDAR
