BEGIN:VCALENDAR
VERSION:2.0
PRODID:-//evangelische-termine.de//NONSGML kigkonsult.se iCalcreator 2.18//
CALSCALE:GREGORIAN
METHOD:PUBLISH
X-WR-CALNAME:iCal Evangelische-Termine 23.04.2026
X-WR-CALDESC:iCalender von Evangelische-Termine (23.04.2026)
X-WR-TIMEZONE:Europe/Berlin
X-MS-OLK-FORCEINSPECTOROPEN:TRUE
BEGIN:VTIMEZONE
TZID:Europe/Berlin
BEGIN:STANDARD
DTSTART:19701025T030000
TZOFFSETFROM:+0200
TZOFFSETTO:+0100
RRULE:FREQ=YEARLY;BYDAY=-1SU;BYMONTH=10
TZNAME:CET
END:STANDARD
BEGIN:DAYLIGHT
DTSTART:19700329T020000
TZOFFSETFROM:+0100
TZOFFSETTO:+0200
RRULE:FREQ=YEARLY;BYDAY=-1SU;BYMONTH=3
TZNAME:CEST
END:DAYLIGHT
END:VTIMEZONE
BEGIN:VEVENT
UID:20260426T100000-40392@evangelische-termine.de
DTSTAMP:20260423T035624Z
DESCRIPTION:\nFür Engagierte: Ja\nEngagiertengruppe: Beruflich Mitarbeitend
 e\; Kirchenvorstand\; Synoden\; Kirchenmusik\; Ehrenamt\nVeranstaltungsort
 : Thalkirche Wiesbaden-Sonnenberg\nTalstr. 15\n65191 Wiesbaden\nFormat der
  Veranstaltung: Präsenzveranstaltung\nKurzbeschreibung / Untertitel: Orgel
 einweihung mit anschl. Kirchenkaffee und informeller Vorführung\nAusführli
 che Beschreibung: Wieder-Einweihung der historischen Raßmann-Orgel in der 
 Thalkirche Wiesbaden-Sonnenberg\n\nAm Sonntag\, dem 26. April um 10 Uhr wi
 rd die historische Rassmann-Orgel in der Thalkirche Wiesbaden-Sonnenberg m
 it einem besonderen musikalischen Gottesdienst wieder eingeweiht. \nIm Ans
 chluss an den Gottesdienst lädt die Evang. Thalkirchengemeinde zu einem Ki
 rchenkaffee und zu einer informellen klanglichen Vorstellung der Orgel ein
 .\n\nIn den vergangenen Monaten wurde das denkmalgeschützte Instrument sor
 gfältig auseinander gebaut\, gründlich gereinigt\, technisch durchgesehen 
 und klanglich überarbeitet. Die technischen Arbeiten wurden von der Orgelb
 aufirma Bosch\, Kassel\, durchgeführt.\nDie klangliche Überarbeitung erfol
 gte durch den Orgelbauer und Intonateur Stephan Heberlein\, der bereits im
  letzten Jahr einem vergleichbaren Instrument in der Evang. Christuskirche
  Eltville seinen unverwechselbaren künstlerischen Charakter verlieh.\n\nDe
 r Gottesdienst wird gehalten von Pfarrer Thomas Hartmann\, die Orgel spiel
 t Andreas Karthäuser.\n\nDer besondere Tipp:\nAm kommenden Ostersonntag\, 
 dem 05. April wird um 10 Uhr das Instrument in einem Oster-Gottesdienst sc
 hon einmal 'inoffiziell' zu hören sein.\nInternetadresse: https://thalkirc
 hengemeinde.de\nBild Alttext: Plakat Orgeleinweihung\nKosten: keine\nVeran
 stalter: Evang. Thalkirchengemeinde Wiesbaden-Sonnenberg\nTelefonnummer be
 i Rückfragen zur Veranstaltung: 0611-541978
DTSTART;TZID=Europe/Berlin:20260426T100000
DTEND;TZID=Europe/Berlin:20260426T113000
LOCATION:Wiesbaden: Thalkirche Wiesbaden-Sonnenberg
SUMMARY:Wieder-Einweihung der historischen Raßmann-Orgel in der Thalkirche 
 Wiesbaden-Sonnenberg :: Musikalischer Gottesdienst zur Orgeleinweihung mit
  anschließendem Kirchenkaffee und informeller Orgelvorführung
URL:https://termine.ekhn.de/veranstaltung_im_detail40392.html
END:VEVENT
END:VCALENDAR
