BEGIN:VCALENDAR
VERSION:2.0
PRODID:-//evangelische-termine.de//NONSGML kigkonsult.se iCalcreator 2.18//
CALSCALE:GREGORIAN
METHOD:PUBLISH
X-WR-CALNAME:iCal Evangelische-Termine 25.04.2026
X-WR-CALDESC:iCalender von Evangelische-Termine (25.04.2026)
X-WR-TIMEZONE:Europe/Berlin
X-MS-OLK-FORCEINSPECTOROPEN:TRUE
BEGIN:VTIMEZONE
TZID:Europe/Berlin
BEGIN:STANDARD
DTSTART:19701025T030000
TZOFFSETFROM:+0200
TZOFFSETTO:+0100
RRULE:FREQ=YEARLY;BYDAY=-1SU;BYMONTH=10
TZNAME:CET
END:STANDARD
BEGIN:DAYLIGHT
DTSTART:19700329T020000
TZOFFSETFROM:+0100
TZOFFSETTO:+0200
RRULE:FREQ=YEARLY;BYDAY=-1SU;BYMONTH=3
TZNAME:CEST
END:DAYLIGHT
END:VTIMEZONE
BEGIN:VEVENT
UID:20261126T193000-40415@evangelische-termine.de
DTSTAMP:20260425T030803Z
DESCRIPTION:\nFür Engagierte: Ja\nVeranstaltungsort: Geistliches Zentrum Ni
 eder-Weisel\nJohanniterstraße 7\n35510 Butzbach\nFormat der Veranstaltung:
  Präsenzveranstaltung\nKurzbeschreibung / Untertitel: In meiner Kraft sein
  - wie finde ich meine(n) Beruf(ung) im Leben?\nAusführliche Beschreibung:
  Wir alle standen als junge Menschen vor dieser Frage und mussten eine Ant
 wort darauf finden\, welcher berufliche Weg gut zu uns passt. Unterwegs au
 f diesem Weg ändern sich dann die Perspektiven\, Präferenzen oder auch Leb
 ensumstände. Und so sehen wir uns dann gefordert\, die Frage nach einer pa
 ssenden Fortsetzung des (beruflichen) Weges erneut zu durchdenken und zu d
 urchfühlen.\n\nDer Vortrag thematisiert eine Vorgehensweise bei der Suche 
 nach einer solchen Berufung im Leben\, die gut zu mir passt – oder\, ander
 s gesagt: mit der ich in meiner Kraft bin. Dabei besteht der zentrale Geda
 nke darin\, den Ausgang zu nehmen bei der Beschaffenheit der eigenen Persö
 nlichkeit – in ihrer je individuellen Zusammensetzung sowohl aus Elementen
  des „Könnens“ (persönliche Stärken\, berufliche Erfahrungen\, Kenntnisse)
  als auch des „Wollens“ ((Ab-)Neigungen\, Präferenzen\, Wertvorstellungen\
 , eigene Identität).\nInternetadresse: https://www.geistliches-zentrum-nie
 der-weisel.de\nKosten: Spenden willkommen\nVeranstalter: Geistliches Zentr
 um Nieder-Weisel\nTelefonnummer bei Rückfragen zur Veranstaltung: 06033749
 246
DTSTART;TZID=Europe/Berlin:20261126T193000
DTEND;TZID=Europe/Berlin:20261126T213000
LOCATION:Butzbach: Geistliches Zentrum Nieder-Weisel
SUMMARY:In meiner Kraft sein - wie finde ich meine(n) Beruf(ung) im Leben? 
 - Wendelin Meyer-Mölck\, Executive Coach :: Heil & Heilung - Wie wird (m)e
 ine Seele gesund? Vortrags- und Begegnungsabend im Ordenshaus
URL:https://termine.ekhn.de/veranstaltung_im_detail40415.html
END:VEVENT
END:VCALENDAR
