BEGIN:VCALENDAR
VERSION:2.0
PRODID:-//evangelische-termine.de//NONSGML kigkonsult.se iCalcreator 2.18//
CALSCALE:GREGORIAN
METHOD:PUBLISH
X-WR-CALNAME:iCal Evangelische-Termine 20.04.2026
X-WR-CALDESC:iCalender von Evangelische-Termine (20.04.2026)
X-WR-TIMEZONE:Europe/Berlin
X-MS-OLK-FORCEINSPECTOROPEN:TRUE
BEGIN:VTIMEZONE
TZID:Europe/Berlin
BEGIN:STANDARD
DTSTART:19701025T030000
TZOFFSETFROM:+0200
TZOFFSETTO:+0100
RRULE:FREQ=YEARLY;BYDAY=-1SU;BYMONTH=10
TZNAME:CET
END:STANDARD
BEGIN:DAYLIGHT
DTSTART:19700329T020000
TZOFFSETFROM:+0100
TZOFFSETTO:+0200
RRULE:FREQ=YEARLY;BYDAY=-1SU;BYMONTH=3
TZNAME:CEST
END:DAYLIGHT
END:VTIMEZONE
BEGIN:VEVENT
UID:20260517T190000-40709@evangelische-termine.de
DTSTAMP:20260420T063631Z
DESCRIPTION:\nFür Engagierte: Nein\nVeranstaltungsort: Ev. Lukaskirche\nKla
 genfurter Ring 61\n65187 Wiesbaden-Gräselberg\nFormat der Veranstaltung: P
 räsenzveranstaltung\nAusführliche Beschreibung: Die Ev. Lukasgemeinde lädt
  herzlich ein zu hochkarätiger Musik vor Ihrer Haustür!\nEinen besonders u
 nterhaltsamen Abend voll musikalischer Raffinesse und Unterhaltung bietet 
 das Vokalterzett Deáno mit einer musikalischen Zeitreise am 17.05.2026 um 
 19.00 Uhr in der Lukaskirche\, Klagenfurter Ring 61\, 65187 Wiesbaden.\nSu
 sanne Juhre (Sopran)\, Laura-Maria Püsch (Alt)\, Leo Heidingsfelder (Barit
 on) gestalten den Abend.\nDauer: ca. 1 h\nEintritt frei\, Spenden erbeten
 \nInternetadresse: https://www.lukasgemeinde.de\nKosten: Keine\nVeranstalt
 er: Ev. Lukaskirchengemeinde Wiesbaden\nTelefonnummer bei Rückfragen zur V
 eranstaltung: 0611840617
DTSTART;TZID=Europe/Berlin:20260517T190000
DTEND;TZID=Europe/Berlin:20260517T200000
LOCATION:Wiesbaden-Gräselberg: Ev. Lukaskirche
SUMMARY:Konzert mit DEÁNO
URL:https://termine.ekhn.de/veranstaltung_im_detail40709.html
END:VEVENT
END:VCALENDAR
