BEGIN:VCALENDAR
VERSION:2.0
PRODID:-//evangelische-termine.de//NONSGML kigkonsult.se iCalcreator 2.18//
CALSCALE:GREGORIAN
METHOD:PUBLISH
X-WR-CALNAME:iCal Evangelische-Termine 24.04.2026
X-WR-CALDESC:iCalender von Evangelische-Termine (24.04.2026)
X-WR-TIMEZONE:Europe/Berlin
X-MS-OLK-FORCEINSPECTOROPEN:TRUE
BEGIN:VTIMEZONE
TZID:Europe/Berlin
BEGIN:STANDARD
DTSTART:19701025T030000
TZOFFSETFROM:+0200
TZOFFSETTO:+0100
RRULE:FREQ=YEARLY;BYDAY=-1SU;BYMONTH=10
TZNAME:CET
END:STANDARD
BEGIN:DAYLIGHT
DTSTART:19700329T020000
TZOFFSETFROM:+0100
TZOFFSETTO:+0200
RRULE:FREQ=YEARLY;BYDAY=-1SU;BYMONTH=3
TZNAME:CEST
END:DAYLIGHT
END:VTIMEZONE
BEGIN:VEVENT
UID:20260626T161800-40916@evangelische-termine.de
DTSTAMP:20260423T235306Z
DESCRIPTION:\nVeranstaltungsort: Kletterturm Heuchelheim\n35452 Heuchelheim
 \nAusführliche Beschreibung: Minderjährige müssen vor dem Klettern eine Ei
 nverständniserklärung der Erziehungsberechtigten vorlegen. \nDiese kann üb
 er die Webseite heruntergeladen werden.
DTSTART;TZID=Europe/Berlin:20260626T161800
DTEND;TZID=Europe/Berlin:20260626T171800
LOCATION:Heuchelheim: Kletterturm Heuchelheim
SUMMARY:Offenes Klettern :: Am Kletterturm Heuchelheim
URL:https://termine.ekhn.de/veranstaltung_im_detail40916.html
END:VEVENT
END:VCALENDAR
