BEGIN:VCALENDAR
VERSION:2.0
PRODID:-//evangelische-termine.de//NONSGML kigkonsult.se iCalcreator 2.18//
CALSCALE:GREGORIAN
METHOD:PUBLISH
X-WR-CALNAME:iCal Evangelische-Termine 21.04.2026
X-WR-CALDESC:iCalender von Evangelische-Termine (21.04.2026)
X-WR-TIMEZONE:Europe/Berlin
X-MS-OLK-FORCEINSPECTOROPEN:TRUE
BEGIN:VTIMEZONE
TZID:Europe/Berlin
BEGIN:STANDARD
DTSTART:19701025T030000
TZOFFSETFROM:+0200
TZOFFSETTO:+0100
RRULE:FREQ=YEARLY;BYDAY=-1SU;BYMONTH=10
TZNAME:CET
END:STANDARD
BEGIN:DAYLIGHT
DTSTART:19700329T020000
TZOFFSETFROM:+0100
TZOFFSETTO:+0200
RRULE:FREQ=YEARLY;BYDAY=-1SU;BYMONTH=3
TZNAME:CEST
END:DAYLIGHT
END:VTIMEZONE
BEGIN:VEVENT
UID:20260504T201500-41051@evangelische-termine.de
DTSTAMP:20260421T100510Z
DESCRIPTION:\nVeranstaltungsort: programmkino rex\nWilhelminenstraße 9\n642
 83 Darmstadt\nAusführliche Beschreibung: Ellen\, Professorin an der renomm
 ierten Georgetown University in Washington\, D.C.\, und Chefkoch Paul feie
 rn ihren 25. Hochzeitstag. Während sich die Gäste amüsieren\, wird Ellen d
 as Gefühl nicht los\, die neue Freundin ihres Sohnes bereits zu kennen. Li
 z entpuppt sich als ehemalige Studentin\, die wegen ihrer „antidemokratisc
 hen Thesen“ von der Uni geflogen ist. Jetzt steht sie kurz davor\, mit der
  Bewegung „The Change“ einen gesellschaftlichen Paradigmenwechsel einzulei
 ten\, der das gesamte politische System Amerikas erschüttert. Plötzlich mu
 ss Ellen nicht nur um den Zusammenhalt ihrer Familie\, sondern für die Fre
 iheit und Werte eines ganzen Landes kämpfen.\n„Was für ein spannender und 
 gleichzeitig aktueller Thriller! Komasa zeigt die Veränderungen nicht in d
 en Hinterzimmern der Mächtigen\, sondern dort\, wo\nwir sie selbst erleben
  – in der eigenen Familie.“ (Andrea Burtz\, WDR 2)\n\nEintritt: 6\,50\, er
 m. 5\,50 Euro
DTSTART;TZID=Europe/Berlin:20260504T201500
DTEND;TZID=Europe/Berlin:20260504T220000
LOCATION:Darmstadt: programmkino rex
SUMMARY:AlleWeltKino: The Change\, OmU :: USA 2025\, 111 Minuten\, Regie: J
 an Komasa
URL:https://termine.ekhn.de/veranstaltung_im_detail41051.html
END:VEVENT
END:VCALENDAR
