BEGIN:VCALENDAR
VERSION:2.0
PRODID:-//evangelische-termine.de//NONSGML kigkonsult.se iCalcreator 2.18//
CALSCALE:GREGORIAN
METHOD:PUBLISH
X-WR-CALNAME:iCal Evangelische-Termine 21.04.2026
X-WR-CALDESC:iCalender von Evangelische-Termine (21.04.2026)
X-WR-TIMEZONE:Europe/Berlin
X-MS-OLK-FORCEINSPECTOROPEN:TRUE
BEGIN:VTIMEZONE
TZID:Europe/Berlin
BEGIN:STANDARD
DTSTART:19701025T030000
TZOFFSETFROM:+0200
TZOFFSETTO:+0100
RRULE:FREQ=YEARLY;BYDAY=-1SU;BYMONTH=10
TZNAME:CET
END:STANDARD
BEGIN:DAYLIGHT
DTSTART:19700329T020000
TZOFFSETFROM:+0100
TZOFFSETTO:+0200
RRULE:FREQ=YEARLY;BYDAY=-1SU;BYMONTH=3
TZNAME:CEST
END:DAYLIGHT
END:VTIMEZONE
BEGIN:VEVENT
UID:20260511T201500-41052@evangelische-termine.de
DTSTAMP:20260421T100511Z
DESCRIPTION:\nVeranstaltungsort: programmkino rex\nWilhelminenstraße 9\n642
 83 Darmstadt\nAusführliche Beschreibung: Elon Musk uncovered gibt exklusiv
 e Einblicke hinter den Vorhang des Imperiums von Elon Musk. Zum ersten Mal
  brechen Vertraute\, Whistleblower\, Opfer und einstige Tesla-Eliten ihr S
 chweigen. Ihre Enthüllungen führen tief ins Herz eines Wettlaufs um selbst
 fahrende Autos\, ein gefährliches Spiel\, in dem blinder Ehrgeiz Menschenl
 eben fordert und den mächtigsten Titanen der Tech-Welt herausfordert.\nDie
 ser investigative Film zeichnet Musks kometenhaften Aufstieg und seinen Wa
 ndel hin zur Unterstützung von Donald Trump nach\, der unternehmerischen E
 rfolg über Sicherheitsvorschriften stellt. Interviews mit Opfern und ihren
  Angehörigen sowie mit Journalisten und ehemaligen Tesla-Mitarbeitern offe
 nbaren ein Klima\, in dem ein unfertiges Produkt auf den Markt gebracht wi
 rd – und der öffentliche Raum als tödlicher Testplatz genutzt wird.\n\nEin
 tritt: 6\,50\, erm. 5\,50 Euro
DTSTART;TZID=Europe/Berlin:20260511T201500
DTEND;TZID=Europe/Berlin:20260511T220000
LOCATION:Darmstadt: programmkino rex
SUMMARY:AlleWeltKino: Elon Musk uncovered: Das Tesla-Experiment\, Dokumenta
 tion\, OmU :: USA 2025\, 90 Minuten\, Regie: Andreas Pichler
URL:https://termine.ekhn.de/veranstaltung_im_detail41052.html
END:VEVENT
END:VCALENDAR
