BEGIN:VCALENDAR
VERSION:2.0
PRODID:-//evangelische-termine.de//NONSGML kigkonsult.se iCalcreator 2.18//
CALSCALE:GREGORIAN
METHOD:PUBLISH
X-WR-CALNAME:iCal Evangelische-Termine 21.04.2026
X-WR-CALDESC:iCalender von Evangelische-Termine (21.04.2026)
X-WR-TIMEZONE:Europe/Berlin
X-MS-OLK-FORCEINSPECTOROPEN:TRUE
BEGIN:VTIMEZONE
TZID:Europe/Berlin
BEGIN:STANDARD
DTSTART:19701025T030000
TZOFFSETFROM:+0200
TZOFFSETTO:+0100
RRULE:FREQ=YEARLY;BYDAY=-1SU;BYMONTH=10
TZNAME:CET
END:STANDARD
BEGIN:DAYLIGHT
DTSTART:19700329T020000
TZOFFSETFROM:+0100
TZOFFSETTO:+0200
RRULE:FREQ=YEARLY;BYDAY=-1SU;BYMONTH=3
TZNAME:CEST
END:DAYLIGHT
END:VTIMEZONE
BEGIN:VEVENT
UID:20260518T201500-41053@evangelische-termine.de
DTSTAMP:20260421T102856Z
DESCRIPTION:\nVeranstaltungsort: programmkino rex\nWilhelminenstraße 9\n642
 83 Darmstadt\nAusführliche Beschreibung: Eine Momentaufnahme einer einst u
 ndenkbaren Entwicklung: In den USA herrscht Bürgerkrieg. Das Land ist bis 
 aufs Mark zerrüttet. Die Kriegsjournalisten Lee und Joel werden Zeugen von
  unvorstellbaren Entwicklungen – denn ein brutaler Konflikt droht ein gänz
 lich unvorbereitetes Land in Schutt und Asche zu legen. Intensive und nich
 t loslassende Bilder nehmen die Zuschauer*innen mit auf eine Reise durch e
 ine düstere Zukunftsvision\, mit undenkbaren Folgen …\n„Dieser Film wirkt 
 auf mich wie eine Fabel – wie eine warnende Fabel\, was geschieht\, wenn M
 enschen nicht miteinander kommunizieren.“ (Kirsten Dunst\, im Film die Jou
 rnalistin Lee)\n\nEintritt: 6\,50\, erm. 5\,50 Euro
DTSTART;TZID=Europe/Berlin:20260518T201500
DTEND;TZID=Europe/Berlin:20260518T220000
LOCATION:Darmstadt: programmkino rex
SUMMARY:Civil War\, OmU :: USA 2024\, 109 Minuten\, Regie: Alex Garland
URL:https://termine.ekhn.de/veranstaltung_im_detail41053.html
END:VEVENT
END:VCALENDAR
