BEGIN:VCALENDAR
VERSION:2.0
PRODID:-//evangelische-termine.de//NONSGML kigkonsult.se iCalcreator 2.18//
CALSCALE:GREGORIAN
METHOD:PUBLISH
X-WR-CALNAME:iCal Evangelische-Termine 21.04.2026
X-WR-CALDESC:iCalender von Evangelische-Termine (21.04.2026)
X-WR-TIMEZONE:Europe/Berlin
X-MS-OLK-FORCEINSPECTOROPEN:TRUE
BEGIN:VTIMEZONE
TZID:Europe/Berlin
BEGIN:STANDARD
DTSTART:19701025T030000
TZOFFSETFROM:+0200
TZOFFSETTO:+0100
RRULE:FREQ=YEARLY;BYDAY=-1SU;BYMONTH=10
TZNAME:CET
END:STANDARD
BEGIN:DAYLIGHT
DTSTART:19700329T020000
TZOFFSETFROM:+0100
TZOFFSETTO:+0200
RRULE:FREQ=YEARLY;BYDAY=-1SU;BYMONTH=3
TZNAME:CEST
END:DAYLIGHT
END:VTIMEZONE
BEGIN:VEVENT
UID:20260525T170000-41073@evangelische-termine.de
DTSTAMP:20260421T211009Z
DESCRIPTION:\nFür Engagierte: Ja\nVeranstaltungsort: Evangelische Stadtkirc
 he Schlitz\nAn der Kirche 1\n36110 Schlitz\nFormat der Veranstaltung: Präs
 enzveranstaltung\nInternetadresse: https://www.ecg-schlitzerland.de/termin
 e/veranstaltungen-stadtkirche-schlitz/konzert-mit-njoy-schlitz\nBild Altte
 xt: Werbeplakat\nKosten: Eintritt frei\nVeranstalter: N-Joy
DTSTART;TZID=Europe/Berlin:20260525T170000
DTEND;TZID=Europe/Berlin:20260525T180000
LOCATION:Schlitz: Evangelische Stadtkirche Schlitz
SUMMARY:N-Joy - Chorkonzert im Mai :: Konzert mit dem Chor N-Joy aus Nieder
 walgern
URL:https://termine.ekhn.de/veranstaltung_im_detail41073.html
END:VEVENT
END:VCALENDAR
