BEGIN:VCALENDAR
VERSION:2.0
PRODID:-//evangelische-termine.de//NONSGML kigkonsult.se iCalcreator 2.18//
CALSCALE:GREGORIAN
METHOD:PUBLISH
X-WR-CALNAME:iCal Evangelische-Termine 22.04.2026
X-WR-CALDESC:iCalender von Evangelische-Termine (22.04.2026)
X-WR-TIMEZONE:Europe/Berlin
X-MS-OLK-FORCEINSPECTOROPEN:TRUE
BEGIN:VTIMEZONE
TZID:Europe/Berlin
BEGIN:STANDARD
DTSTART:19701025T030000
TZOFFSETFROM:+0200
TZOFFSETTO:+0100
RRULE:FREQ=YEARLY;BYDAY=-1SU;BYMONTH=10
TZNAME:CET
END:STANDARD
BEGIN:DAYLIGHT
DTSTART:19700329T020000
TZOFFSETFROM:+0100
TZOFFSETTO:+0200
RRULE:FREQ=YEARLY;BYDAY=-1SU;BYMONTH=3
TZNAME:CEST
END:DAYLIGHT
END:VTIMEZONE
BEGIN:VEVENT
UID:20260613T150000-41106@evangelische-termine.de
DTSTAMP:20260422T132327Z
DESCRIPTION:\nFür Engagierte: Nein\nVeranstaltungsort: Johannes-Pistorius-H
 aus\nAuf dem Graben 35\n63667 Nidda\nFormat der Veranstaltung: Präsenzvera
 nstaltung\nKurzbeschreibung / Untertitel: Auf den Spuren von Margaretha Pi
 storius\, Niddas erster Pfarrfrau\nAusführliche Beschreibung: Die evangeli
 schen Frauen im Dekanat Büdinger Land laden ein zu einem aktiven\, genussv
 ollen\, informativen und spirituellen Dekanatsfrauentag. \n\nDie Veranstal
 tung beginnt um 15 Uhr im Johannes-Pistorius-Haus in Nidda\, Auf dem Grabe
 n 35. Unter anderem besteht die Möglichkeit\, eine Pflanze der Margaretha-
 Pistorius-Rose zu kaufen.\n\nAnmeldung erbeten unter dfa-buedinger-land@we
 b-de\n\nParkmöglichkeiten gibt es am Bürgerhaus Nidda\, 'Hinter dem Brauha
 us'.\nKosten: keine Kosten\, Spenden kommen einem caritativen Projekt des 
 Gustav-Adolf-Werks zugute\nVeranstalter: Dekanatsfrauenausschuss Büdinger 
 Land\nTelefonnummer bei Rückfragen zur Veranstaltung: 06043/3173\, Beate H
 arbich-Schönert\, Vorsitzende des Dekanatsfrauenausschusses
DTSTART;TZID=Europe/Berlin:20260613T150000
DTEND;TZID=Europe/Berlin:20260613T190000
LOCATION:Nidda: Johannes-Pistorius-Haus
SUMMARY:Dekanatsfrauentag :: Frauen auf historischem Weg ...
URL:https://termine.ekhn.de/veranstaltung_im_detail41106.html
END:VEVENT
END:VCALENDAR
