BEGIN:VCALENDAR
VERSION:2.0
PRODID:-//evangelische-termine.de//NONSGML kigkonsult.se iCalcreator 2.18//
CALSCALE:GREGORIAN
METHOD:PUBLISH
X-WR-CALNAME:iCal Evangelische-Termine 21.04.2026
X-WR-CALDESC:iCalender von Evangelische-Termine (21.04.2026)
X-WR-TIMEZONE:Europe/Berlin
X-MS-OLK-FORCEINSPECTOROPEN:TRUE
BEGIN:VTIMEZONE
TZID:Europe/Berlin
BEGIN:STANDARD
DTSTART:19701025T030000
TZOFFSETFROM:+0200
TZOFFSETTO:+0100
RRULE:FREQ=YEARLY;BYDAY=-1SU;BYMONTH=10
TZNAME:CET
END:STANDARD
BEGIN:DAYLIGHT
DTSTART:19700329T020000
TZOFFSETFROM:+0100
TZOFFSETTO:+0200
RRULE:FREQ=YEARLY;BYDAY=-1SU;BYMONTH=3
TZNAME:CEST
END:DAYLIGHT
END:VTIMEZONE
BEGIN:VEVENT
UID:20260829T150000-41192@evangelische-termine.de
DTSTAMP:20260421T023846Z
DESCRIPTION:\nVeranstaltungsort: Bauernhofcafe Lenhardt\nAm Kirchborn 10\n6
 3303 Dreieich\nKurzbeschreibung / Untertitel: Nachmittag im Bauernhofcafe
 \nAusführliche Beschreibung: Wir treffen uns um 15 Uhr beim Bauernhof Lenh
 ardt in Dreieich-Götzenhain
DTSTART;TZID=Europe/Berlin:20260829T150000
DTEND;TZID=Europe/Berlin:20260829T170000
LOCATION:Dreieich: Bauernhofcafe Lenhardt
SUMMARY:Kindergottesdienst :: Treffpunkt Bauer Lenharadt
URL:https://termine.ekhn.de/veranstaltung_im_detail41192.html
END:VEVENT
END:VCALENDAR
