BEGIN:VCALENDAR
VERSION:2.0
PRODID:-//evangelische-termine.de//NONSGML kigkonsult.se iCalcreator 2.18//
CALSCALE:GREGORIAN
METHOD:PUBLISH
X-WR-CALNAME:iCal Evangelische-Termine 21.04.2026
X-WR-CALDESC:iCalender von Evangelische-Termine (21.04.2026)
X-WR-TIMEZONE:Europe/Berlin
X-MS-OLK-FORCEINSPECTOROPEN:TRUE
BEGIN:VTIMEZONE
TZID:Europe/Berlin
BEGIN:STANDARD
DTSTART:19701025T030000
TZOFFSETFROM:+0200
TZOFFSETTO:+0100
RRULE:FREQ=YEARLY;BYDAY=-1SU;BYMONTH=10
TZNAME:CET
END:STANDARD
BEGIN:DAYLIGHT
DTSTART:19700329T020000
TZOFFSETFROM:+0100
TZOFFSETTO:+0200
RRULE:FREQ=YEARLY;BYDAY=-1SU;BYMONTH=3
TZNAME:CEST
END:DAYLIGHT
END:VTIMEZONE
BEGIN:VEVENT
UID:20260620T110000-41194@evangelische-termine.de
DTSTAMP:20260421T023953Z
DESCRIPTION:\nVeranstaltungsort: Ev. Versöhnungsgemeinde Buchschlag-Sprendl
 ingen\nBuchweg 10\n63303 Dreieich\nAusführliche Beschreibung: Liebe Famili
 en\,\nherzliche Einladung zur Kirche Kunterbunt am 20. Juni 2026 in der Ve
 rsöhnungsgemeinde Buchschlag!\nKirche Kunterbunt ist Kirche für die ganze 
 Familie – kreativ\, fröhlich und generationsübergreifend.\nEuch erwartet e
 in bunter Nachmittag mit Aktionen\, Zeit zum Entdecken und Ausprobieren\, 
 einer kurzen Feier und gemeinsamem Essen.\nDamit wir das Essen gut planen 
 können\, bitten wir euch\, alle Personen anzumelden\, die mitessen werden 
 – also nicht nur die Kinder\, sondern auch Eltern\, Großeltern oder weiter
 e Begleitpersonen.\nSolltet ihr Fragen haben oder Probleme bei der Anmeldu
 ng\, schreibt mir gerne eine WhatsApp an 0162 8680791 oder eine E-Mail an 
 christina.hoppe@ekhn.de.
DTSTART;TZID=Europe/Berlin:20260620T110000
DTEND;TZID=Europe/Berlin:20260620T133000
LOCATION:Dreieich: Ev. Versöhnungsgemeinde Buchschlag-Sprendlingen
SUMMARY:Kirche Kunterbunt
URL:https://termine.ekhn.de/veranstaltung_im_detail41194.html
END:VEVENT
END:VCALENDAR
