BEGIN:VCALENDAR
VERSION:2.0
PRODID:-//evangelische-termine.de//NONSGML kigkonsult.se iCalcreator 2.18//
CALSCALE:GREGORIAN
METHOD:PUBLISH
X-WR-CALNAME:iCal Evangelische-Termine 21.04.2026
X-WR-CALDESC:iCalender von Evangelische-Termine (21.04.2026)
X-WR-TIMEZONE:Europe/Berlin
X-MS-OLK-FORCEINSPECTOROPEN:TRUE
BEGIN:VTIMEZONE
TZID:Europe/Berlin
BEGIN:STANDARD
DTSTART:19701025T030000
TZOFFSETFROM:+0200
TZOFFSETTO:+0100
RRULE:FREQ=YEARLY;BYDAY=-1SU;BYMONTH=10
TZNAME:CET
END:STANDARD
BEGIN:DAYLIGHT
DTSTART:19700329T020000
TZOFFSETFROM:+0100
TZOFFSETTO:+0200
RRULE:FREQ=YEARLY;BYDAY=-1SU;BYMONTH=3
TZNAME:CEST
END:DAYLIGHT
END:VTIMEZONE
BEGIN:VEVENT
UID:20260730T080000-41201@evangelische-termine.de
DTSTAMP:20260421T023203Z
DESCRIPTION:\nVeranstaltungsort: Ev. Christuskirchengemeinde Dreieich\nFich
 testr. 31\n63303 Dreieich\nAusführliche Beschreibung: Wir fahren zur Lochm
 ühle. Hier ist eine Anmeldung erforderlich\nhttps://on.campflow.de/christu
 skirchengemeinde-dreieich-und-waldkirche-obertshausen/familienausflug-loch
 muehle-30-juli-2026
DTSTART;TZID=Europe/Berlin:20260730T080000
DTEND;TZID=Europe/Berlin:20260730T200000
LOCATION:Dreieich: Ev. Christuskirchengemeinde Dreieich
SUMMARY:Abenteuer Lochmühle :: Ausflug zur Lochmühle 
URL:https://termine.ekhn.de/veranstaltung_im_detail41201.html
END:VEVENT
END:VCALENDAR
