BEGIN:VCALENDAR
VERSION:2.0
PRODID:-//evangelische-termine.de//NONSGML kigkonsult.se iCalcreator 2.18//
CALSCALE:GREGORIAN
METHOD:PUBLISH
X-WR-CALNAME:iCal Evangelische-Termine 21.04.2026
X-WR-CALDESC:iCalender von Evangelische-Termine (21.04.2026)
X-WR-TIMEZONE:Europe/Berlin
X-MS-OLK-FORCEINSPECTOROPEN:TRUE
BEGIN:VTIMEZONE
TZID:Europe/Berlin
BEGIN:STANDARD
DTSTART:19701025T030000
TZOFFSETFROM:+0200
TZOFFSETTO:+0100
RRULE:FREQ=YEARLY;BYDAY=-1SU;BYMONTH=10
TZNAME:CET
END:STANDARD
BEGIN:DAYLIGHT
DTSTART:19700329T020000
TZOFFSETFROM:+0100
TZOFFSETTO:+0200
RRULE:FREQ=YEARLY;BYDAY=-1SU;BYMONTH=3
TZNAME:CEST
END:DAYLIGHT
END:VTIMEZONE
BEGIN:VEVENT
UID:20260712T103000-41206@evangelische-termine.de
DTSTAMP:20260421T041940Z
DESCRIPTION:\nVeranstaltungsort: Ev. Christuskirchengemeinde Dreieich\nFich
 testr. 31\n63303 Dreieich\nAusführliche Beschreibung: Gottesdienst im Rahm
 en der Sommerkirche für Groß und Klein.\nAnschließend wollen wir bei gutem
  Wetter im Kirchgarten noch einen kleinen Snack einnehmen.
DTSTART;TZID=Europe/Berlin:20260712T103000
DTEND;TZID=Europe/Berlin:20260712T150000
LOCATION:Dreieich: Ev. Christuskirchengemeinde Dreieich
SUMMARY:Sommerkirche - Familiengottesdienst
URL:https://termine.ekhn.de/veranstaltung_im_detail41206.html
END:VEVENT
END:VCALENDAR
