BEGIN:VCALENDAR
VERSION:2.0
PRODID:-//evangelische-termine.de//NONSGML kigkonsult.se iCalcreator 2.18//
CALSCALE:GREGORIAN
METHOD:PUBLISH
X-WR-CALNAME:iCal Evangelische-Termine 21.04.2026
X-WR-CALDESC:iCalender von Evangelische-Termine (21.04.2026)
X-WR-TIMEZONE:Europe/Berlin
X-MS-OLK-FORCEINSPECTOROPEN:TRUE
BEGIN:VTIMEZONE
TZID:Europe/Berlin
BEGIN:STANDARD
DTSTART:19701025T030000
TZOFFSETFROM:+0200
TZOFFSETTO:+0100
RRULE:FREQ=YEARLY;BYDAY=-1SU;BYMONTH=10
TZNAME:CET
END:STANDARD
BEGIN:DAYLIGHT
DTSTART:19700329T020000
TZOFFSETFROM:+0100
TZOFFSETTO:+0200
RRULE:FREQ=YEARLY;BYDAY=-1SU;BYMONTH=3
TZNAME:CEST
END:DAYLIGHT
END:VTIMEZONE
BEGIN:VEVENT
UID:20260525T110000-41211@evangelische-termine.de
DTSTAMP:20260421T023949Z
DESCRIPTION:\nVeranstaltungsort: Bürgerpark Sprendlingen\nFichtestr. 50\n63
 303 Dreieich\nAusführliche Beschreibung: Ökumenischer Gottesdienst im Bürg
 erpark\nbei schlechtem Wetter in der Ev. Christuskirchengemeinde Dreieich
DTSTART;TZID=Europe/Berlin:20260525T110000
DTEND;TZID=Europe/Berlin:20260525T120000
LOCATION:Dreieich: Bürgerpark Sprendlingen
SUMMARY:Ökumenischer Gottesdienst :: mit Pfarrerin Claudia Zlamal und Pfarr
 er Reinhold Massoth
URL:https://termine.ekhn.de/veranstaltung_im_detail41211.html
END:VEVENT
END:VCALENDAR
