BEGIN:VCALENDAR
VERSION:2.0
PRODID:-//evangelische-termine.de//NONSGML kigkonsult.se iCalcreator 2.18//
CALSCALE:GREGORIAN
METHOD:PUBLISH
X-WR-CALNAME:iCal Evangelische-Termine 22.04.2026
X-WR-CALDESC:iCalender von Evangelische-Termine (22.04.2026)
X-WR-TIMEZONE:Europe/Berlin
X-MS-OLK-FORCEINSPECTOROPEN:TRUE
BEGIN:VTIMEZONE
TZID:Europe/Berlin
BEGIN:STANDARD
DTSTART:19701025T030000
TZOFFSETFROM:+0200
TZOFFSETTO:+0100
RRULE:FREQ=YEARLY;BYDAY=-1SU;BYMONTH=10
TZNAME:CET
END:STANDARD
BEGIN:DAYLIGHT
DTSTART:19700329T020000
TZOFFSETFROM:+0100
TZOFFSETTO:+0200
RRULE:FREQ=YEARLY;BYDAY=-1SU;BYMONTH=3
TZNAME:CEST
END:DAYLIGHT
END:VTIMEZONE
BEGIN:VEVENT
UID:20260725T170000-41336@evangelische-termine.de
DTSTAMP:20260422T144924Z
DESCRIPTION:\nFür Engagierte: Nein\nVeranstaltungsort: Evangelische Kirche 
 Lißberg\nSchlossgasse 17\n63683 Ortenberg\nFormat der Veranstaltung: Präse
 nzveranstaltung\nKurzbeschreibung / Untertitel: Nikita Morozov spielt Werk
 e von Bach\, Brahms\, Buxtehude und anderen\nAusführliche Beschreibung: Au
 f dem Programm stehen:\nDietrich Buxtehude (1637-1707) – Präludium e-moll 
 BuxWV 142\nGiovanni Morandi (1777-1856) – Elevazione in la maggiore\nJohan
 n Sebastian Bach – Präludium und Fuge G-dur BWV 550\nJacques-Nicolas Lemme
 ns (1823-1881) – L’offertoire pour l’honneur de la Sainte Vierge \nJohanne
 s Brahms (1833-1887) – Präludium und Fuge g-moll WoO 10\nJohannes Brahms (
 1833-1897) – Herzliebste Jesu\nGeorg Muffat (1653-1704) – Toccata XII aus 
 dem Apparatus musico-organisticus\n\nNikita Morozov ist 1997 in Moskau geb
 oren. 2017 beendete er sein Orgelstudium an der Akademischen Musikhochschu
 le des Moskauer Staatlichen Tschaikowsky-Konservatoriums. Von 2018 bis 202
 2 studierte er am Tschaikowsky-Staatskonservatorium in Moskau in der Klass
 e von Professor Lyubov Shishkhanova\, setzte sein Studium an der Hochschul
 e für Musik und darstellende Kunst (HMDK) in Stuttgart in der Klasse von V
 incent Bernhardt fort und studiert nun Orgel in der Klasse von Jürgen Essl
 . Er nahm an verschiedenen Meisterkursen teil. 2023 gewann er den dritten 
 Preis beim 11. Internationalen Joseph-Gabler-Wettbewerb in Ochsenhausen. E
 r nahm regelmäßig an Konzerten der Orgelabteilung des Konservatoriums teil
 \, unter anderem im Großen Saal des Moskauer Tschaikowsky-Konservatoriums\
 , in der Stadt Jaroslawl und an anderen Orten. Er spielt nicht nur Solokon
 zerte\, sondern nimmt auch an verschiedenen Konzerten mit Orchester und Ch
 or teil und gibt Solokonzerte in Deutschland und im europäischen Ausland. 
 Sein Repertoire umfasst Werke vom Barock bis zur Moderne.\nKosten: Eintrit
 t frei\nVeranstalter: Evangelische Kirchengemeinde Konradsdorf
DTSTART;TZID=Europe/Berlin:20260725T170000
DTEND;TZID=Europe/Berlin:20260725T183000
LOCATION:Ortenberg: Evangelische Kirche Lißberg
SUMMARY:Orgelkonzert
URL:https://termine.ekhn.de/veranstaltung_im_detail41336.html
END:VEVENT
END:VCALENDAR
