BEGIN:VCALENDAR
VERSION:2.0
PRODID:-//evangelische-termine.de//NONSGML kigkonsult.se iCalcreator 2.18//
CALSCALE:GREGORIAN
METHOD:PUBLISH
X-WR-CALNAME:iCal Evangelische-Termine 22.04.2026
X-WR-CALDESC:iCalender von Evangelische-Termine (22.04.2026)
X-WR-TIMEZONE:Europe/Berlin
X-MS-OLK-FORCEINSPECTOROPEN:TRUE
BEGIN:VTIMEZONE
TZID:Europe/Berlin
BEGIN:STANDARD
DTSTART:19701025T030000
TZOFFSETFROM:+0200
TZOFFSETTO:+0100
RRULE:FREQ=YEARLY;BYDAY=-1SU;BYMONTH=10
TZNAME:CET
END:STANDARD
BEGIN:DAYLIGHT
DTSTART:19700329T020000
TZOFFSETFROM:+0100
TZOFFSETTO:+0200
RRULE:FREQ=YEARLY;BYDAY=-1SU;BYMONTH=3
TZNAME:CEST
END:DAYLIGHT
END:VTIMEZONE
BEGIN:VEVENT
UID:20260427T190000-41391@evangelische-termine.de
DTSTAMP:20260422T132324Z
DESCRIPTION:\nFür Engagierte: Nein\nVeranstaltungsort: Jugendkulturbahnhof 
 Bleichenbach\nBahnhofstraße 39\n63683 Ortenberg-Bleichenbach\nFormat der V
 eranstaltung: Präsenzveranstaltung\nKurzbeschreibung / Untertitel: Geschic
 hten aus der Ukraine\nAusführliche Beschreibung: Menschen erzählen: Märche
 n\, Gedichte oder Geschichten über Orte\, Begegnungen und Erinnerungen. Da
 s ist der Kern des Erzählcafés\, welches das Evangelische Dekanat Büdinger
  Land regelmäßig im Jugendkulturbahnhof Bleichenbach veranstaltet. \nDiese
 s Mal berichten Halyna Loichenko und Oksana Kurhanska (Musik) aus der Ukra
 ine.\n\nZuhören\, miteinander ins Gespräch kommen\, gemeinsam essen und en
 tdecken\, was verbindet – und was uns unterscheidet. Die Veranstaltung ist
  offen für alle\, die neugierig sind und vielfältige Kulturen kennenlernen
  möchten.\nVeranstalter: Evangelisches Dekanat Büdinger Land
DTSTART;TZID=Europe/Berlin:20260427T190000
DTEND;TZID=Europe/Berlin:20260427T203000
LOCATION:Ortenberg-Bleichenbach: Jugendkulturbahnhof Bleichenbach
SUMMARY:Erzählcafé
URL:https://termine.ekhn.de/veranstaltung_im_detail41391.html
END:VEVENT
END:VCALENDAR
