BEGIN:VCALENDAR
VERSION:2.0
PRODID:-//evangelische-termine.de//NONSGML kigkonsult.se iCalcreator 2.18//
CALSCALE:GREGORIAN
METHOD:PUBLISH
X-WR-CALNAME:iCal Evangelische-Termine 20.04.2026
X-WR-CALDESC:iCalender von Evangelische-Termine (20.04.2026)
X-WR-TIMEZONE:Europe/Berlin
X-MS-OLK-FORCEINSPECTOROPEN:TRUE
BEGIN:VTIMEZONE
TZID:Europe/Berlin
BEGIN:STANDARD
DTSTART:19701025T030000
TZOFFSETFROM:+0200
TZOFFSETTO:+0100
RRULE:FREQ=YEARLY;BYDAY=-1SU;BYMONTH=10
TZNAME:CET
END:STANDARD
BEGIN:DAYLIGHT
DTSTART:19700329T020000
TZOFFSETFROM:+0100
TZOFFSETTO:+0200
RRULE:FREQ=YEARLY;BYDAY=-1SU;BYMONTH=3
TZNAME:CEST
END:DAYLIGHT
END:VTIMEZONE
BEGIN:VEVENT
UID:20260423T190000-41405@evangelische-termine.de
DTSTAMP:20260420T093445Z
DESCRIPTION:\nVeranstaltungsort: Gemeindehaus\nDietrich-Bonhoeffer-Straße 2
 -4\n63110 Rodgau\nKurzbeschreibung / Untertitel: Informationsveranstaltung
  über die Gründung eines Fördervereins im Gemeindehaus\nAusführliche Besch
 reibung: Der Prozess EKHN 2030 schreitet weiterhin unaufhaltsam\nvoran. Se
 it dem 01. Januar 2025 besteht der\nNachbarschaftsraum Rodgau-Rödermark. 
 \nAktuell beschäftigt die Leitungsgremien der Gemeinden die Frage: Von wel
 chen\nGebäuden müssen wir uns trennen\, welche Gebäude können\nwir guten G
 ewissens erhalten.\n\nIm Oktober wird die Dekanatssynode entscheiden\, in 
 welcher\nKategorie die Gemeindehäuser eingestuft werden. Bis dahin\nsoll e
 s in allen Nachbarschaftsräumen zu einer\neinvernehmlichen Einigung kommen
 . \nDie Gebäude sind danach zu kategorisieren\, welche auf Dauer erhalten
 \n(Kategorie A)\, welche bis auf weiteres gehalten (Kategorie B)\nund welc
 he Gebäude gesamtkirchlich nicht mehr\nzuweisungsberechtigt (Kategorie C) 
 sein sollen. Damit werden\ndie Grundlagen für Aussagen über die weitere Er
 haltung\, die\nGewährung von Bauzuweisungen und mögliche\nInvestitionsbeda
 rfe erarbeitet.\n\nFür die ev. Trinitatisgemeinde bedeutet das: Nach der\n
 Gemeindeversammlung Anfang März spricht nichts mehr\ngegen den Verkauf der
  Gustav-Adolf-Kirche zu Weiskirchen.\nDas Dietrich-Bonhoeffer-Haus steht a
 lternativ zur Feier von\nGottesdiensten zur Verfügung. Wir wissen allerdin
 gs noch\nnicht\, in welcher Kategorie das Gebäude eingestuft werden\nwird.
  \nEs liegt an der Kirchengemeinde\, den Bestand des\nGemeindehauses zu si
 chern. Dazu werden erhebliche\nAnstrengungen nötig sein. Der Erlös aus dem
  Verkauf der\nKirche kann dafür eine gute Basis bilden.\nGeplant ist die G
 ründung eines Fördervereins\, um in Zukunft\nwenigstens die Finanzierung d
 er laufenden Kosten des\nGemeindehauses bereitstellen zu können. \nAm 23. 
 April\, das ist der kommende Donnerstag\, wird zu diesem Thema um 19.00\nU
 hr eine Informationsveranstaltung im Gemeindehaus\nstattfinden. Die Mitgli
 eder der Kirchengemeinde werden\ngebeten\, zahlreich daran teilzunehmen.\n
 \nIm Auftrag des Kirchenvorstands\n\nHansjörg Rekow\, Pfarrer\nBild: alter
 nativer Text: KI Bild einer Informationsveranstaltung\nBild: Copyright: ht
 tps://de.freepik.com/
DTSTART;TZID=Europe/Berlin:20260423T190000
DTEND;TZID=Europe/Berlin:20260423T210000
LOCATION:Rodgau: Gemeindehaus
SUMMARY:Gründung eines Fördervereins – Informationsveranstaltung :: Informa
 tionsveranstaltung im Gemeindehaus
URL:https://termine.ekhn.de/veranstaltung_im_detail41405.html
END:VEVENT
END:VCALENDAR
