BEGIN:VCALENDAR
VERSION:2.0
PRODID:-//evangelische-termine.de//NONSGML kigkonsult.se iCalcreator 2.18//
CALSCALE:GREGORIAN
METHOD:PUBLISH
X-WR-CALNAME:iCal Evangelische-Termine 21.04.2026
X-WR-CALDESC:iCalender von Evangelische-Termine (21.04.2026)
X-WR-TIMEZONE:Europe/Berlin
X-MS-OLK-FORCEINSPECTOROPEN:TRUE
BEGIN:VTIMEZONE
TZID:Europe/Berlin
BEGIN:STANDARD
DTSTART:19701025T030000
TZOFFSETFROM:+0200
TZOFFSETTO:+0100
RRULE:FREQ=YEARLY;BYDAY=-1SU;BYMONTH=10
TZNAME:CET
END:STANDARD
BEGIN:DAYLIGHT
DTSTART:19700329T020000
TZOFFSETFROM:+0100
TZOFFSETTO:+0200
RRULE:FREQ=YEARLY;BYDAY=-1SU;BYMONTH=3
TZNAME:CEST
END:DAYLIGHT
END:VTIMEZONE
BEGIN:VEVENT
UID:20260705T100000-41459@evangelische-termine.de
DTSTAMP:20260421T041148Z
DESCRIPTION:\nVeranstaltungsort: ev. Kirche Götzenhain\nRheinstraße 31\n633
 03 Dreieich\nAusführliche Beschreibung: Pilgergottesdienst  mit Pfarrer Ma
 rkus Buss und Pfarrerin Barbara Schindler\nWanderung mit Liedern und Gebet
 en\, ca. 8 Km\nGrundkondition\, festes Schuhwerk und Proviant erforderlich
DTSTART;TZID=Europe/Berlin:20260705T100000
DTEND;TZID=Europe/Berlin:20260705T120000
LOCATION:Dreieich: ev. Kirche Götzenhain
SUMMARY:Sommerkirche Berg und Tal :: Pilgergottesdienst
URL:https://termine.ekhn.de/veranstaltung_im_detail41459.html
END:VEVENT
END:VCALENDAR
