BEGIN:VCALENDAR
VERSION:2.0
PRODID:-//evangelische-termine.de//NONSGML kigkonsult.se iCalcreator 2.18//
CALSCALE:GREGORIAN
METHOD:PUBLISH
X-WR-CALNAME:iCal Evangelische-Termine 21.04.2026
X-WR-CALDESC:iCalender von Evangelische-Termine (21.04.2026)
X-WR-TIMEZONE:Europe/Berlin
X-MS-OLK-FORCEINSPECTOROPEN:TRUE
BEGIN:VTIMEZONE
TZID:Europe/Berlin
BEGIN:STANDARD
DTSTART:19701025T030000
TZOFFSETFROM:+0200
TZOFFSETTO:+0100
RRULE:FREQ=YEARLY;BYDAY=-1SU;BYMONTH=10
TZNAME:CET
END:STANDARD
BEGIN:DAYLIGHT
DTSTART:19700329T020000
TZOFFSETFROM:+0100
TZOFFSETTO:+0200
RRULE:FREQ=YEARLY;BYDAY=-1SU;BYMONTH=3
TZNAME:CEST
END:DAYLIGHT
END:VTIMEZONE
BEGIN:VEVENT
UID:20260718T093000-41460@evangelische-termine.de
DTSTAMP:20260421T041235Z
DESCRIPTION:\nVeranstaltungsort: Ev. Burgkirche Dreieichenhain\nBurg Hayn\n
 63303 Dreieichenhain\nKurzbeschreibung / Untertitel: Gospelgottesdienst\nA
 usführliche Beschreibung: mit dem Gospelduo Caroline Mhlanga und Horst Ber
 gmeyer
DTSTART;TZID=Europe/Berlin:20260718T093000
DTEND;TZID=Europe/Berlin:20260718T103000
LOCATION:Dreieichenhain: Ev. Burgkirche Dreieichenhain
SUMMARY:Sommerkirche :: mit Pfarrer Marcus Losch
URL:https://termine.ekhn.de/veranstaltung_im_detail41460.html
END:VEVENT
END:VCALENDAR
