BEGIN:VCALENDAR
VERSION:2.0
PRODID:-//evangelische-termine.de//NONSGML kigkonsult.se iCalcreator 2.18//
CALSCALE:GREGORIAN
METHOD:PUBLISH
X-WR-CALNAME:iCal Evangelische-Termine 20.04.2026
X-WR-CALDESC:iCalender von Evangelische-Termine (20.04.2026)
X-WR-TIMEZONE:Europe/Berlin
X-MS-OLK-FORCEINSPECTOROPEN:TRUE
BEGIN:VTIMEZONE
TZID:Europe/Berlin
BEGIN:STANDARD
DTSTART:19701025T030000
TZOFFSETFROM:+0200
TZOFFSETTO:+0100
RRULE:FREQ=YEARLY;BYDAY=-1SU;BYMONTH=10
TZNAME:CET
END:STANDARD
BEGIN:DAYLIGHT
DTSTART:19700329T020000
TZOFFSETFROM:+0100
TZOFFSETTO:+0200
RRULE:FREQ=YEARLY;BYDAY=-1SU;BYMONTH=3
TZNAME:CEST
END:DAYLIGHT
END:VTIMEZONE
BEGIN:VEVENT
UID:20260517T110000-41471@evangelische-termine.de
DTSTAMP:20260420T213439Z
DESCRIPTION:\nVeranstaltungsort: Kirche Ober-Seibertenrod\nHeegholzstraße 2
 \n35327 Ulrichstein / Ober-Seibertenrod\nInternetadresse: https://Heegholz
 straße
DTSTART;TZID=Europe/Berlin:20260517T110000
DTEND;TZID=Europe/Berlin:20260517T120000
LOCATION:Ulrichstein / Ober-Seibertenrod: Kirche Ober-Seibertenrod
SUMMARY:Gottesdienst Exaudi
URL:https://termine.ekhn.de/veranstaltung_im_detail41471.html
END:VEVENT
END:VCALENDAR
