BEGIN:VCALENDAR
VERSION:2.0
PRODID:-//evangelische-termine.de//NONSGML kigkonsult.se iCalcreator 2.18//
CALSCALE:GREGORIAN
METHOD:PUBLISH
X-WR-CALNAME:iCal Evangelische-Termine 21.04.2026
X-WR-CALDESC:iCalender von Evangelische-Termine (21.04.2026)
X-WR-TIMEZONE:Europe/Berlin
X-MS-OLK-FORCEINSPECTOROPEN:TRUE
BEGIN:VTIMEZONE
TZID:Europe/Berlin
BEGIN:STANDARD
DTSTART:19701025T030000
TZOFFSETFROM:+0200
TZOFFSETTO:+0100
RRULE:FREQ=YEARLY;BYDAY=-1SU;BYMONTH=10
TZNAME:CET
END:STANDARD
BEGIN:DAYLIGHT
DTSTART:19700329T020000
TZOFFSETFROM:+0100
TZOFFSETTO:+0200
RRULE:FREQ=YEARLY;BYDAY=-1SU;BYMONTH=3
TZNAME:CEST
END:DAYLIGHT
END:VTIMEZONE
BEGIN:VEVENT
UID:20260524T180000-41490@evangelische-termine.de
DTSTAMP:20260421T143740Z
DESCRIPTION:\nVeranstaltungsort: Martinskirche Nierstein\nTempelhof 2\n5528
 3 Nierstein\nAusführliche Beschreibung: Werke von Naji Hakim\, Jehan Alain
 \, Johann Sebastian Bach\, Camille Saint Saens\, David Briggs: Konzertimpr
 ovisationen im Stil von Johann Sebastian Bach\, Wolfgang Amadeus Mozart\, 
 Felix Mendelssohn Bartholdy\, Maurice Ravel\nin Zusammenarbeit mit KulturS
 INN Rhein-Selz\nAnmeldung: Ja\nBild Copyright: KulturSINN\nForm der Verans
 taltung: Präsenzveranstaltung
DTSTART;TZID=Europe/Berlin:20260524T180000
DTEND;TZID=Europe/Berlin:20260524T193000
LOCATION:Nierstein: Martinskirche Nierstein
SUMMARY:Doppelkonzert mit dem Artist in Residence der Kathedrale St. John t
 he divine\, New York\, David Briggs
URL:https://termine.ekhn.de/veranstaltung_im_detail41490.html
END:VEVENT
END:VCALENDAR
