BEGIN:VCALENDAR
VERSION:2.0
PRODID:-//evangelische-termine.de//NONSGML kigkonsult.se iCalcreator 2.18//
CALSCALE:GREGORIAN
METHOD:PUBLISH
X-WR-CALNAME:iCal Evangelische-Termine 22.04.2026
X-WR-CALDESC:iCalender von Evangelische-Termine (22.04.2026)
X-WR-TIMEZONE:Europe/Berlin
X-MS-OLK-FORCEINSPECTOROPEN:TRUE
BEGIN:VTIMEZONE
TZID:Europe/Berlin
BEGIN:STANDARD
DTSTART:19701025T030000
TZOFFSETFROM:+0200
TZOFFSETTO:+0100
RRULE:FREQ=YEARLY;BYDAY=-1SU;BYMONTH=10
TZNAME:CET
END:STANDARD
BEGIN:DAYLIGHT
DTSTART:19700329T020000
TZOFFSETFROM:+0100
TZOFFSETTO:+0200
RRULE:FREQ=YEARLY;BYDAY=-1SU;BYMONTH=3
TZNAME:CEST
END:DAYLIGHT
END:VTIMEZONE
BEGIN:VEVENT
UID:20260425T190000-41498@evangelische-termine.de
DTSTAMP:20260422T132327Z
DESCRIPTION:\nFür Engagierte: Nein\nVeranstaltungsort: Evangelische Kirche 
 Bingenheim\nSchlossstraße 14\n61209 Echzell-Bingenheim\nFormat der Veranst
 altung: Präsenzveranstaltung\nKurzbeschreibung / Untertitel: Mit dem Evang
 elischen Kammerchor Nidda und einem Streichensemble\nAusführliche Beschrei
 bung: Auf dem Programm stehen:\nJosepf Haydn\, Kleine Orgelmesse\nGabriel 
 Fauré\, Cantique de Jean Racine\nund andere Werke\nKosten: Eintritt frei\n
 Veranstalter: Evangelisches Dekanat Büdinger Land
DTSTART;TZID=Europe/Berlin:20260425T190000
DTEND;TZID=Europe/Berlin:20260425T203000
LOCATION:Echzell-Bingenheim: Evangelische Kirche Bingenheim
SUMMARY:Geistliche Abendmusik
URL:https://termine.ekhn.de/veranstaltung_im_detail41498.html
END:VEVENT
END:VCALENDAR
