BEGIN:VCALENDAR
VERSION:2.0
PRODID:-//evangelische-termine.de//NONSGML kigkonsult.se iCalcreator 2.18//
CALSCALE:GREGORIAN
METHOD:PUBLISH
X-WR-CALNAME:iCal Evangelische-Termine 22.04.2026
X-WR-CALDESC:iCalender von Evangelische-Termine (22.04.2026)
X-WR-TIMEZONE:Europe/Berlin
X-MS-OLK-FORCEINSPECTOROPEN:TRUE
BEGIN:VTIMEZONE
TZID:Europe/Berlin
BEGIN:STANDARD
DTSTART:19701025T030000
TZOFFSETFROM:+0200
TZOFFSETTO:+0100
RRULE:FREQ=YEARLY;BYDAY=-1SU;BYMONTH=10
TZNAME:CET
END:STANDARD
BEGIN:DAYLIGHT
DTSTART:19700329T020000
TZOFFSETFROM:+0100
TZOFFSETTO:+0200
RRULE:FREQ=YEARLY;BYDAY=-1SU;BYMONTH=3
TZNAME:CEST
END:DAYLIGHT
END:VTIMEZONE
BEGIN:VEVENT
UID:20260426T180000-41499@evangelische-termine.de
DTSTAMP:20260422T132031Z
DESCRIPTION:\nFür Engagierte: Nein\nVeranstaltungsort: Evangelische Kloster
 kirche Hirzenhain\nKarl-Birx-Straße 1A\n63697 Hirzenhain\nFormat der Veran
 staltung: Präsenzveranstaltung\nKurzbeschreibung / Untertitel: Mit dem Eva
 ngelischen Kammerchor Nidda und einem Streichensemble\nAusführliche Beschr
 eibung: Auf dem Programm stehen:\nJoseph Haydn\, Kleine Orgelmesse\nGabrie
 l Fauré\, Cantique de Jean Racine\nund andere Werke\nKosten: Eintritt frei
 \nVeranstalter: Evangelisches Dekanat Büdinger Land
DTSTART;TZID=Europe/Berlin:20260426T180000
DTEND;TZID=Europe/Berlin:20260426T193000
LOCATION:Hirzenhain: Evangelische Klosterkirche Hirzenhain
SUMMARY:Geistliche Abendmusik
URL:https://termine.ekhn.de/veranstaltung_im_detail41499.html
END:VEVENT
END:VCALENDAR
