BEGIN:VCALENDAR
VERSION:2.0
PRODID:-//evangelische-termine.de//NONSGML kigkonsult.se iCalcreator 2.18//
CALSCALE:GREGORIAN
METHOD:PUBLISH
X-WR-CALNAME:iCal Evangelische-Termine 22.04.2026
X-WR-CALDESC:iCalender von Evangelische-Termine (22.04.2026)
X-WR-TIMEZONE:Europe/Berlin
X-MS-OLK-FORCEINSPECTOROPEN:TRUE
BEGIN:VTIMEZONE
TZID:Europe/Berlin
BEGIN:STANDARD
DTSTART:19701025T030000
TZOFFSETFROM:+0200
TZOFFSETTO:+0100
RRULE:FREQ=YEARLY;BYDAY=-1SU;BYMONTH=10
TZNAME:CET
END:STANDARD
BEGIN:DAYLIGHT
DTSTART:19700329T020000
TZOFFSETFROM:+0100
TZOFFSETTO:+0200
RRULE:FREQ=YEARLY;BYDAY=-1SU;BYMONTH=3
TZNAME:CEST
END:DAYLIGHT
END:VTIMEZONE
BEGIN:VEVENT
UID:20260507T190000-41500@evangelische-termine.de
DTSTAMP:20260422T132011Z
DESCRIPTION:\nFür Engagierte: Nein\nVeranstaltungsort: Evangelische Marienk
 irche Büdingen\nKirchgasse 15\n63654 Büdingen\nFormat der Veranstaltung: P
 räsenzveranstaltung\nKurzbeschreibung / Untertitel: Konzertreihe zugunsten
  der Orgelsanierung\nAusführliche Beschreibung: Mit dem Streichorchester '
 Les Cordes' der Musik- und Kunstschule Büdingen und Kantorin Anne Schneide
 r (Orgel/Foto)\nKosten: Eintritt frei\, Spenden für die Orgelsanierung erb
 eten\nVeranstalter: Evangelisches Dekanat Büdinger Land
DTSTART;TZID=Europe/Berlin:20260507T190000
DTEND;TZID=Europe/Berlin:20260507T203000
LOCATION:Büdingen: Evangelische Marienkirche Büdingen
SUMMARY:'Orgel um 7' :: Konzertreihe zugunsten der Orgelsanierung
URL:https://termine.ekhn.de/veranstaltung_im_detail41500.html
END:VEVENT
END:VCALENDAR
