BEGIN:VCALENDAR
VERSION:2.0
PRODID:-//evangelische-termine.de//NONSGML kigkonsult.se iCalcreator 2.18//
CALSCALE:GREGORIAN
METHOD:PUBLISH
X-WR-CALNAME:iCal Evangelische-Termine 22.04.2026
X-WR-CALDESC:iCalender von Evangelische-Termine (22.04.2026)
X-WR-TIMEZONE:Europe/Berlin
X-MS-OLK-FORCEINSPECTOROPEN:TRUE
BEGIN:VTIMEZONE
TZID:Europe/Berlin
BEGIN:STANDARD
DTSTART:19701025T030000
TZOFFSETFROM:+0200
TZOFFSETTO:+0100
RRULE:FREQ=YEARLY;BYDAY=-1SU;BYMONTH=10
TZNAME:CET
END:STANDARD
BEGIN:DAYLIGHT
DTSTART:19700329T020000
TZOFFSETFROM:+0100
TZOFFSETTO:+0200
RRULE:FREQ=YEARLY;BYDAY=-1SU;BYMONTH=3
TZNAME:CEST
END:DAYLIGHT
END:VTIMEZONE
BEGIN:VEVENT
UID:20260503T170000-41501@evangelische-termine.de
DTSTAMP:20260422T132327Z
DESCRIPTION:\nFür Engagierte: Nein\nVeranstaltungsort: Evangelische Kirche 
 Rohrbach\nKlostergasse 16\n63654 Büdingen\nFormat der Veranstaltung: Präse
 nzveranstaltung\nKurzbeschreibung / Untertitel: zum Sonntag Kantate\nAusfü
 hrliche Beschreibung: Am Sonntag Kantate steht traditionell die Kirchenmus
 ik im Mittelpunkt. Kantorin Anne Schneider nimmt die Zuhörerinnen und Zuhö
 rer mit auf eine klangreiche Reise durch die vielen Facetten der Orgel. In
  einem bunten und abwechslungsreichen Programm zeigt sie\, wie wandelbar d
 ieses Instrument ist: festlich und kraftvoll\, zart und meditativ\, tradit
 ionell und überraschend.\nKosten: Eintritt frei\nVeranstalter: Evangelisch
 e Kirchengemeinde Rohrbach
DTSTART;TZID=Europe/Berlin:20260503T170000
DTEND;TZID=Europe/Berlin:20260503T180000
LOCATION:Büdingen: Evangelische Kirche Rohrbach
SUMMARY:Orgelkonzert
URL:https://termine.ekhn.de/veranstaltung_im_detail41501.html
END:VEVENT
END:VCALENDAR
