BEGIN:VCALENDAR
VERSION:2.0
PRODID:-//evangelische-termine.de//NONSGML kigkonsult.se iCalcreator 2.18//
CALSCALE:GREGORIAN
METHOD:PUBLISH
X-WR-CALNAME:iCal Evangelische-Termine 23.04.2026
X-WR-CALDESC:iCalender von Evangelische-Termine (23.04.2026)
X-WR-TIMEZONE:Europe/Berlin
X-MS-OLK-FORCEINSPECTOROPEN:TRUE
BEGIN:VTIMEZONE
TZID:Europe/Berlin
BEGIN:STANDARD
DTSTART:19701025T030000
TZOFFSETFROM:+0200
TZOFFSETTO:+0100
RRULE:FREQ=YEARLY;BYDAY=-1SU;BYMONTH=10
TZNAME:CET
END:STANDARD
BEGIN:DAYLIGHT
DTSTART:19700329T020000
TZOFFSETFROM:+0100
TZOFFSETTO:+0200
RRULE:FREQ=YEARLY;BYDAY=-1SU;BYMONTH=3
TZNAME:CEST
END:DAYLIGHT
END:VTIMEZONE
BEGIN:VEVENT
UID:20260520T190000-41615@evangelische-termine.de
DTSTAMP:20260423T074333Z
DESCRIPTION:\nVeranstaltungsort: Evangelische Heilig-Geist-Kirche\nAm Kreuz
  2\n61118 Bad Vilbel\nAusführliche Beschreibung: Die Operngala ist bereits
  ein „Klassiker“ der VilBelMonte-Reihe und hat dieses Jahr 10-jähriges Jub
 iläum! Wenn Herr Prof. Heyer unterhaltsame Anekdoten aus dem Gesangsunterr
 icht erzählt und Hedayet Djeddikar die begabten jungen Sängerinnen und Sän
 ger einfühlsam am Flügel begleitet\, kommen nicht nur Opernliebhaber auf i
 hre Kosten. Den großartigen Stimmen im hohen Kirchenraum mit der tollen Ak
 ustik zu lauschen ist ein einmaliges Erlebnis. Der Gesamterlös des Abends 
 kommt der gemeinnützigen Organisation „Jericho Hope and Peace“ zugute.\nEi
 ntritt frei\, um großzügige Spenden wird gebeten.\nhttps://www.thomasheyer
 .com/schueler\nInternetadresse: https://www.auferstehungsgemeinde-bad-vilb
 el.de/\nE-Mail: vilbelmonte@auferstehungsgemeinde-bad-vilbel.de\nVeranstal
 ter: VilBelMonte
DTSTART;TZID=Europe/Berlin:20260520T190000
DTEND;TZID=Europe/Berlin:20260520T210000
LOCATION:Bad Vilbel: Evangelische Heilig-Geist-Kirche
SUMMARY:Benefiz-Operngala: Gesangsklasse Prof. Thomas Heyer\,HfMDK Frankfur
 t mit Hedayet Djeddikar
URL:https://termine.ekhn.de/veranstaltung_im_detail41615.html
END:VEVENT
END:VCALENDAR
