BEGIN:VCALENDAR
VERSION:2.0
PRODID:-//evangelische-termine.de//NONSGML kigkonsult.se iCalcreator 2.18//
CALSCALE:GREGORIAN
METHOD:PUBLISH
X-WR-CALNAME:iCal Evangelische-Termine 22.04.2026
X-WR-CALDESC:iCalender von Evangelische-Termine (22.04.2026)
X-WR-TIMEZONE:Europe/Berlin
X-MS-OLK-FORCEINSPECTOROPEN:TRUE
BEGIN:VTIMEZONE
TZID:Europe/Berlin
BEGIN:STANDARD
DTSTART:19701025T030000
TZOFFSETFROM:+0200
TZOFFSETTO:+0100
RRULE:FREQ=YEARLY;BYDAY=-1SU;BYMONTH=10
TZNAME:CET
END:STANDARD
BEGIN:DAYLIGHT
DTSTART:19700329T020000
TZOFFSETFROM:+0100
TZOFFSETTO:+0200
RRULE:FREQ=YEARLY;BYDAY=-1SU;BYMONTH=3
TZNAME:CEST
END:DAYLIGHT
END:VTIMEZONE
BEGIN:VEVENT
UID:20260508T180000-41617@evangelische-termine.de
DTSTAMP:20260422T132149Z
DESCRIPTION:\nFür Engagierte: Nein\nVeranstaltungsort: Parksaal Bad Salzhau
 sen\nIm Park 1\n63667 Nidda\nFormat der Veranstaltung: Präsenzveranstaltun
 g\nKurzbeschreibung / Untertitel: Frauenmahl: inspirierende Impulse und ge
 meinsames Essen\nAusführliche Beschreibung: Das Frauenmahl ist ein dialogi
 sches Veranstaltungsformat\, das ein festliches Mehr-Gänge-Menü mit inhalt
 lichen Impulsen verbindet. Zwischen den Gängen kommen die Teilnehmerinnen 
 miteinander ins Gespräch\, teilen Erfahrungen und entwickeln neue Perspekt
 iven. So entsteht eine Atmosphäre des Austauschs auf Augenhöhe.\n\nIm Mitt
 elpunkt steht die Frage\, wie Räume das Leben von Frauen prägen. Räume kön
 nen Schutz bieten\, Kraft schenken und Gemeinschaft ermöglichen – zugleich
  werden sie auch als begrenzend oder ausgrenzend erlebt. Ob in Familie\, B
 eruf\, Kirche oder Öffentlichkeit: Frauen bewegen sich in vielfältigen\, o
 ft widersprüchlichen Räumen.\n\nFolgende Frauen sind als Impulsgeberinnen 
 eingeladen:\n\nDorothee Dernbach\, Naturgarten-Planerin aus Büdingen („Nat
 ur als atmender Raum“)\n\nKatja Euler\, Erste Stadträtin in Büdingen\, und
  Anne Hantschel vom Frauen-Notruf Nidda („Gesellschaft als verletzlicher u
 nd umkämpfter Raum“)\n\nSr. Maria Magdalena Hörter OSB vom Kloster Engelth
 al („Glaube als tragender Raum“)\n\nClaudia Velten\, Stimmbildnerin aus Gi
 eßen („Körper als schwingender Raum“)\n\nDie Moderation hat Ronka Nickel.
 \n\nAnmelden kann man sich telefonisch unter der Nummer 06043/80260 oder p
 er E-Mail an veranstaltung.buedinger-land(at)ekhn.de\nKosten: 39 Euro (erm
 äßigt)\, 59 Euro (regulär)\, 79 Euro (Soli-Ticket)\nVeranstalter: Evangeli
 sche Dekanat Büdinger Land und Landesverband Evangelische Frauen in Hessen
  und Nassau
DTSTART;TZID=Europe/Berlin:20260508T180000
DTEND;TZID=Europe/Berlin:20260508T210000
LOCATION:Nidda: Parksaal Bad Salzhausen
SUMMARY:'Heilig und umkämpft – Frauen. Räume. Gesellschaft' :: Frauenmahl
URL:https://termine.ekhn.de/veranstaltung_im_detail41617.html
END:VEVENT
END:VCALENDAR
