BEGIN:VCALENDAR
VERSION:2.0
PRODID:-//evangelische-termine.de//NONSGML kigkonsult.se iCalcreator 2.18//
CALSCALE:GREGORIAN
METHOD:PUBLISH
X-WR-CALNAME:iCal Evangelische-Termine 22.04.2026
X-WR-CALDESC:iCalender von Evangelische-Termine (22.04.2026)
X-WR-TIMEZONE:Europe/Berlin
X-MS-OLK-FORCEINSPECTOROPEN:TRUE
BEGIN:VTIMEZONE
TZID:Europe/Berlin
BEGIN:STANDARD
DTSTART:19701025T030000
TZOFFSETFROM:+0200
TZOFFSETTO:+0100
RRULE:FREQ=YEARLY;BYDAY=-1SU;BYMONTH=10
TZNAME:CET
END:STANDARD
BEGIN:DAYLIGHT
DTSTART:19700329T020000
TZOFFSETFROM:+0100
TZOFFSETTO:+0200
RRULE:FREQ=YEARLY;BYDAY=-1SU;BYMONTH=3
TZNAME:CEST
END:DAYLIGHT
END:VTIMEZONE
BEGIN:VEVENT
UID:20260430T170000-41733@evangelische-termine.de
DTSTAMP:20260422T063603Z
DESCRIPTION:\nVeranstaltungsort: Martinsstift\nHeinheimer Straße 41a\n64289
  Darmstadt\nKurzbeschreibung / Untertitel: Vorbereitung Masken anmalen für
  Parade für Gleichstellung am 5.5.\nAusführliche Beschreibung: Die diesjäh
 rige Parade für Gleichstellung am 5.5. steht unter dem Motto „Wir sind bun
 t\, wir sind laut“. Dafür benutzen wir Masken. Diese wollen wir gemeinsam 
 bunt anmalen.\nUnd wir üben das Lied: „Ich bin anders als du bist anders –
  na und?“ Hast du Lust mitzumachen? Dann komm vorbei:\nDonnerstag\, 30. Ap
 ril\n17 bis 19 Uhr\nGemeindehaus Martinsstift hinter der Martinskirche\nHe
 inheimer Straße 41a in Darmstadt\nBitte bring ein T-Shirt oder etwas zum S
 chutz deiner Kleidung mit. Farben sind da.\nWir freuen uns auf dich!\nAstr
 id Maria Horn\, Nadja Soukup und Birgit Heckelmann
DTSTART;TZID=Europe/Berlin:20260430T170000
DTEND;TZID=Europe/Berlin:20260430T190000
LOCATION:Darmstadt: Martinsstift
SUMMARY:Vorbereitung Parade für Gleichstellung
URL:https://termine.ekhn.de/veranstaltung_im_detail41733.html
END:VEVENT
END:VCALENDAR
