BEGIN:VCALENDAR
VERSION:2.0
PRODID:-//evangelische-termine.de//NONSGML kigkonsult.se iCalcreator 2.18//
CALSCALE:GREGORIAN
METHOD:PUBLISH
X-WR-CALNAME:iCal Evangelische-Termine 24.04.2026
X-WR-CALDESC:iCalender von Evangelische-Termine (24.04.2026)
X-WR-TIMEZONE:Europe/Berlin
X-MS-OLK-FORCEINSPECTOROPEN:TRUE
BEGIN:VTIMEZONE
TZID:Europe/Berlin
BEGIN:STANDARD
DTSTART:19701025T030000
TZOFFSETFROM:+0200
TZOFFSETTO:+0100
RRULE:FREQ=YEARLY;BYDAY=-1SU;BYMONTH=10
TZNAME:CET
END:STANDARD
BEGIN:DAYLIGHT
DTSTART:19700329T020000
TZOFFSETFROM:+0100
TZOFFSETTO:+0200
RRULE:FREQ=YEARLY;BYDAY=-1SU;BYMONTH=3
TZNAME:CEST
END:DAYLIGHT
END:VTIMEZONE
BEGIN:VEVENT
UID:20260505T170000-41734@evangelische-termine.de
DTSTAMP:20260424T000926Z
DESCRIPTION:\nFür Engagierte: Nein\nVeranstaltungsort: Marktplatz\nMarktpla
 tz\n64285 Darmstadt\nFormat der Veranstaltung: Präsenzveranstaltung\nAusfü
 hrliche Beschreibung: „Wir sind bunt\, wir sind laut“\nParade für Gleichst
 ellung am Dienstag\, 5. Mai\, 17 Uhr\, Marktplatz Darmstadt\n\nAm Dienstag
 \, 5. Mai\, um 17 Uhr startet am Marktplatz in Darmstadt die fünfte Parade
  zum Aktionstag für die Gleichstellung von Menschen mit Behinderung. Unter
  dem Motto „Gemeinsam für Gleichstellung“ erwartet die Besucher*innen ein 
 lebendiges\, kreatives und vielfältiges Programm mit inklusiven künstleris
 chen Beiträgen. \n\nAus dem Dekanat organisieren Gemeindepädagogin Birgit 
 Heckelmann\, Nadja Soukup und Pfarrerin Astrid Maria Horn ein Vorbereitung
 streffen am Donnerstag\, 30. April\, 17 bis 19 Uhr\, zu dem sie herzlich i
 ns Gemeindehaus Martinsstift hinter der Martinskirche\, Heinheimer Straße 
 41 a\, einladen. Hier sollen für die Parade Masken gemeinsam bunt angemalt
  werden. Außerdem soll das Lied „Ich bin anders als du bist anders – na un
 d?“ eingeübt werden. Teilnehmenden mögen ein T-Shirt oder etwas zum Schutz
  der Kleidung mitbringen. Farben sind vorhanden.\n\nWeiterhin sind aus dem
  Dekanat das BlechbläserEnsemble “Heilix Blechle” der Evangelischen Kirche
 ngemeinde Weiterstadt\, die Innovations- und Koordinationsstelle „FEST im 
 Leben“\, die “Kirchen-Piraten” der Segensgemeinde und viele andere motivie
 rte und engagierte Menschen bei der Parade dabei.\n\nAngekündigt sind laut
  Plakat: Trio Distanz\, Rasier- und Messerscharf\, LK 7\, der rollende Lei
 erkasten\, Herzinklusiv\, Trio Surdo\, DJ Shane & DJ Juppa\, Die Burgis\, 
 7 Stopfies sowie eine Performance der EKS-IGS & Viko.\n\nDurch die Veranst
 altung führen Nadja Soukup und Kai Schuber-Seel. Unterstützt wird die Akti
 on von Schirmfrau Bürgermeisterin Barbara Akdeniz.\nAlle Beteiligten wolle
 n ein starkes Zeichen setzen für Teilhabe\, Vielfalt und Gleichstellung.
DTSTART;TZID=Europe/Berlin:20260505T170000
DTEND;TZID=Europe/Berlin:20260505T190000
LOCATION:Darmstadt: Marktplatz
SUMMARY:Parade für Gleichstellung am 5. Mai
URL:https://termine.ekhn.de/veranstaltung_im_detail41734.html
END:VEVENT
END:VCALENDAR
