BEGIN:VCALENDAR
VERSION:2.0
PRODID:-//evangelische-termine.de//NONSGML kigkonsult.se iCalcreator 2.18//
CALSCALE:GREGORIAN
METHOD:PUBLISH
X-WR-CALNAME:iCal Evangelische-Termine 23.04.2026
X-WR-CALDESC:iCalender von Evangelische-Termine (23.04.2026)
X-WR-TIMEZONE:Europe/Berlin
X-MS-OLK-FORCEINSPECTOROPEN:TRUE
BEGIN:VTIMEZONE
TZID:Europe/Berlin
BEGIN:STANDARD
DTSTART:19701025T030000
TZOFFSETFROM:+0200
TZOFFSETTO:+0100
RRULE:FREQ=YEARLY;BYDAY=-1SU;BYMONTH=10
TZNAME:CET
END:STANDARD
BEGIN:DAYLIGHT
DTSTART:19700329T020000
TZOFFSETFROM:+0100
TZOFFSETTO:+0200
RRULE:FREQ=YEARLY;BYDAY=-1SU;BYMONTH=3
TZNAME:CEST
END:DAYLIGHT
END:VTIMEZONE
BEGIN:VEVENT
UID:20260504T193000-41834@evangelische-termine.de
DTSTAMP:20260423T074333Z
DESCRIPTION:\nVeranstaltungsort: Evangelische Kirche Massenheim\nAn der Kir
 che 7\n61118 Bad Vilbel\nKurzbeschreibung / Untertitel: Ein Konzert mit de
 r „Goldenen Stimme“\nAusführliche Beschreibung: Am Montag\, den 4. Mai 202
 6 um 19:30 Uhr gastiert der international gefeierte Bariton Dilian Kushev 
 in der Ev. Friedenskirche Bad Vilbel-Massenheim.\nUnter dem Titel „Die Lie
 be ebnete die Welt“ präsentiert der Ausnahmesänger ein bewegendes Konzertp
 rogramm mit weltbekannten Klassikern und eigenen Kompositionen.\nFreuen Si
 e sich auf große Welthits wie „You Raise Me Up“\, „Hallelujah“\, „My Way“\
 , „O Sole Mio“\, „Nessun Dorma“ sowie auf Kushevs eigene Werke\, u. a.: „D
 on't Say Goodbye“\, „Gib mir die Liebe zurück“\, „Alone“ und viele mehr.\n
 \nEin Abend voller Emotion\, Tiefe\, Hoffnung und Liebe – mit einer Stimme
 \, die Herzen berührt.\n\nEintritt frei – Spende erbeten.\nInternetadresse
 : https://www.auferstehungsgemeinde-bad-vilbel.de/\nE-Mail: thorsten.mebus
 @auferstehungsgemeinde-bad-vilbel.de\nVeranstalter: Evangelische Aufersteh
 ungsgemeinde Bad Vilbel
DTSTART;TZID=Europe/Berlin:20260504T193000
DTEND;TZID=Europe/Berlin:20260504T213000
LOCATION:Bad Vilbel: Evangelische Kirche Massenheim
SUMMARY:„Die Liebe ebnete die Welt“ - Konzert mit Dilian Kushev :: Ein Konz
 ert mit der „Goldenen Stimme“
URL:https://termine.ekhn.de/veranstaltung_im_detail41834.html
END:VEVENT
END:VCALENDAR
