BEGIN:VCALENDAR
VERSION:2.0
PRODID:-//evangelische-termine.de//NONSGML kigkonsult.se iCalcreator 2.18//
CALSCALE:GREGORIAN
METHOD:PUBLISH
X-WR-CALNAME:iCal Evangelische-Termine 25.04.2026
X-WR-CALDESC:iCalender von Evangelische-Termine (25.04.2026)
X-WR-TIMEZONE:Europe/Berlin
X-MS-OLK-FORCEINSPECTOROPEN:TRUE
BEGIN:VTIMEZONE
TZID:Europe/Berlin
BEGIN:STANDARD
DTSTART:19701025T030000
TZOFFSETFROM:+0200
TZOFFSETTO:+0100
RRULE:FREQ=YEARLY;BYDAY=-1SU;BYMONTH=10
TZNAME:CET
END:STANDARD
BEGIN:DAYLIGHT
DTSTART:19700329T020000
TZOFFSETFROM:+0100
TZOFFSETTO:+0200
RRULE:FREQ=YEARLY;BYDAY=-1SU;BYMONTH=3
TZNAME:CEST
END:DAYLIGHT
END:VTIMEZONE
BEGIN:VEVENT
UID:20260426T170000-41902@evangelische-termine.de
DTSTAMP:20260425T185005Z
DESCRIPTION:\nFür Engagierte: Nein\nVeranstaltungsort: Nikolaikirche Alzey
 \nObermarkt 19\n55232 Alzey\nFormat der Veranstaltung: Präsenzveranstaltun
 g\nAusführliche Beschreibung: Am Sonntag\, 26. April um 17 Uhr lädt die Ev
 angelische Kirchengemeinde Alzey zu einem Chorkonzert der Alzeyer Kantorei
  in die Nikolaikirche ein. \nUnter dem Titel „I will praise thee\, o Lord“
  stehen a cappella-Werke und orgelbegleitete Stücke aus mehreren Jahrunder
 ten auf dem Programm. Das Spektrum reicht von der barocken Motette „Exulta
 te iusti“ von Ludovico da Viadana und einer doppelchörigen Psalmvertonung 
 von Samuel Scheidt über zwei romantische lateinische Hymnen von Joseph Rhe
 inberger und ein prachtvolles Magnificat von Charles Villiers Stanford bis
  hin zu zeitgenössischen Werken von Knut Nystedt und „A clare Benediction“
  von John Rutter. \nAn der Beckerath-Orgel begleitet Thomas Renner\, der m
 it österlichen Choralbearbeitungen aus Bachs Orgelbüchlein und einer großa
 ngeleten österlichen Imrpovisation zu hören ist.\nDie Leitung liegt in den
  Händen von Kantor Hartmut Müller. Der Eintritt ist frei.
DTSTART;TZID=Europe/Berlin:20260426T170000
DTEND;TZID=Europe/Berlin:20260426T180000
LOCATION:Alzey: Nikolaikirche Alzey
SUMMARY:I will praise thee\, o Lord! :: Chorkonzert der Alzeyer Kantorei
URL:https://termine.ekhn.de/veranstaltung_im_detail41902.html
END:VEVENT
END:VCALENDAR
