BEGIN:VCALENDAR
VERSION:2.0
PRODID:-//evangelische-termine.de//NONSGML kigkonsult.se iCalcreator 2.18//
CALSCALE:GREGORIAN
METHOD:PUBLISH
X-WR-CALNAME:iCal Evangelische-Termine 24.04.2026
X-WR-CALDESC:iCalender von Evangelische-Termine (24.04.2026)
X-WR-TIMEZONE:Europe/Berlin
X-MS-OLK-FORCEINSPECTOROPEN:TRUE
BEGIN:VTIMEZONE
TZID:Europe/Berlin
BEGIN:STANDARD
DTSTART:19701025T030000
TZOFFSETFROM:+0200
TZOFFSETTO:+0100
RRULE:FREQ=YEARLY;BYDAY=-1SU;BYMONTH=10
TZNAME:CET
END:STANDARD
BEGIN:DAYLIGHT
DTSTART:19700329T020000
TZOFFSETFROM:+0100
TZOFFSETTO:+0200
RRULE:FREQ=YEARLY;BYDAY=-1SU;BYMONTH=3
TZNAME:CEST
END:DAYLIGHT
END:VTIMEZONE
BEGIN:VEVENT
UID:20260503T180000-42011@evangelische-termine.de
DTSTAMP:20260424T140508Z
DESCRIPTION:\nFür Engagierte: Ja\nVeranstaltungsort: Evangelische Stadtkirc
 he Homberg (Ohm)\nAn der Stadtkirche 10\n35315 Homberg (Ohm)\nFormat der V
 eranstaltung: Präsenzveranstaltung\nKurzbeschreibung / Untertitel: Abwechs
 lungsreicher Konzertabend in der Stadtkirche\nAusführliche Beschreibung: A
 nlässlich des Sonntags „Kantate“ lädt die Stadtkirche Homberg (Ohm) am Son
 ntag\, 3. Mai\, um 18 Uhr zu einem abwechslungsreichen Konzertabend ein.\n
 Unter dem Titel „Musik zum Sonntag Kantate“ erwartet die Besucherinnen und
  Besucher ein vielfältiges Programm. Mitwirkende sind der Kinderchor\, die
  Gruppe CrossOver sowie die Flötengruppe\, die gemeinsam ein buntes musika
 lisches Erlebnis gestalten.\nDas Programm umfasst Lieder zu Ostern und zum
  Frühling\, instrumentale Renaissancemusik sowie Stücke zum Lobpreis Gotte
 s und Segenslieder. Auch bekannte Melodien der Beatles finden ihren Platz 
 und sorgen für besondere Akzente in diesem vielseitigen Konzert.\nDer Sonn
 tag Kantate stellt traditionell die Kirchenmusik in den Mittelpunkt – ents
 prechend lädt dieser Abend dazu ein\, Musik in ihrer verbindenden und insp
 irierenden Kraft zu erleben.\nDer Eintritt ist frei.\nBild Alttext: Liedbl
 att\nKosten: Eintritt frei\nVeranstalter: Stadtkirche Homberg/Ohm\nTelefon
 nummer bei Rückfragen zur Veranstaltung: 06401 2283145
DTSTART;TZID=Europe/Berlin:20260503T180000
DTEND;TZID=Europe/Berlin:20260503T190000
LOCATION:Homberg (Ohm): Evangelische Stadtkirche Homberg (Ohm)
SUMMARY:Musik zum Sonntag KANTATE :: Abwechslungsreicher Konzertabend in de
 r Stadtkirche
URL:https://termine.ekhn.de/veranstaltung_im_detail42011.html
END:VEVENT
END:VCALENDAR
