BEGIN:VCALENDAR
VERSION:2.0
PRODID:-//evangelische-termine.de//NONSGML kigkonsult.se iCalcreator 2.18//
CALSCALE:GREGORIAN
METHOD:PUBLISH
X-WR-CALNAME:iCal Evangelische-Termine 20.04.2026
X-WR-CALDESC:iCalender von Evangelische-Termine (20.04.2026)
X-WR-TIMEZONE:Europe/Berlin
X-MS-OLK-FORCEINSPECTOROPEN:TRUE
BEGIN:VTIMEZONE
TZID:Europe/Berlin
BEGIN:STANDARD
DTSTART:19701025T030000
TZOFFSETFROM:+0200
TZOFFSETTO:+0100
RRULE:FREQ=YEARLY;BYDAY=-1SU;BYMONTH=10
TZNAME:CET
END:STANDARD
BEGIN:DAYLIGHT
DTSTART:19700329T020000
TZOFFSETFROM:+0100
TZOFFSETTO:+0200
RRULE:FREQ=YEARLY;BYDAY=-1SU;BYMONTH=3
TZNAME:CEST
END:DAYLIGHT
END:VTIMEZONE
BEGIN:VEVENT
UID:20251106T193000-7451@evangelische-termine.de
DTSTAMP:20260420T084710Z
DESCRIPTION:\nFür Engagierte: Nein\nVeranstaltungsort: Geistliches Zentrum 
 Nieder-Weisel\nJohanniterstraße 7\n35510 Butzbach\nFormat der Veranstaltun
 g: Präsenzveranstaltung\nAusführliche Beschreibung: Vortrags- und Begegnun
 gsabende im Ordenshaus \n\nIm Mittelpunkt des ersten ökumenischen Konzils 
 von Nizäa im Jahre 325 n. Chr. – vor 1700 Jahren – stand die Debatte über
  die göttliche Identität von Jesus Christus. Die Vortrags- und Begegnung
 sabende am Geistlichen Zentrum greifen diese Frage nach Jesus auf. Die Ref
 erentinnen und Referenten zeichnen in ihren Impulsvorträgen nach\, wie die
  persönliche Christusbeziehung Widerhall im Leben und Denken bekannter gei
 stlicher Persönlichkeiten gefunden hat. Die Biografie bekannter geistlich
 er Persönlichkeiten wird so zum Ausgangspunkt einer Suche nach einer an Ch
 ristus orientierten zeitgemäßen Glaubenspraxis – christlicher Spiritualitä
 t. An die Vorträge schließen sich Austausch und Begegnung bei Snacks und 
 Getränken an.\nInternetadresse: http://www.geistliches-zentrum-nieder-wei
 sel.de\nKosten: Spende willkommen\nVeranstalter: Geistliches Zentrum Niede
 r-Weisel\nTelefonnummer bei Rückfragen zur Veranstaltung: 06033 749246
DTSTART;TZID=Europe/Berlin:20251106T193000
DTEND;TZID=Europe/Berlin:20251106T213000
LOCATION:Butzbach: Geistliches Zentrum Nieder-Weisel
SUMMARY:Jesus im Spiegel bekannter geistlicher Persönlichkeiten :: Wer war
  Jesus – aus jüdischer Sicht? (Chasan Leah Frey-Rabine)
URL:https://termine.ekhn.de/veranstaltung_im_detail7451.html
END:VEVENT
END:VCALENDAR
