BEGIN:VCALENDAR
VERSION:2.0
PRODID:-//evangelische-termine.de//NONSGML kigkonsult.se iCalcreator 2.18//
CALSCALE:GREGORIAN
METHOD:PUBLISH
X-WR-CALNAME:iCal Evangelische-Termine 20.04.2026
X-WR-CALDESC:iCalender von Evangelische-Termine (20.04.2026)
X-WR-TIMEZONE:Europe/Berlin
X-MS-OLK-FORCEINSPECTOROPEN:TRUE
BEGIN:VTIMEZONE
TZID:Europe/Berlin
BEGIN:STANDARD
DTSTART:19701025T030000
TZOFFSETFROM:+0200
TZOFFSETTO:+0100
RRULE:FREQ=YEARLY;BYDAY=-1SU;BYMONTH=10
TZNAME:CET
END:STANDARD
BEGIN:DAYLIGHT
DTSTART:19700329T020000
TZOFFSETFROM:+0100
TZOFFSETTO:+0200
RRULE:FREQ=YEARLY;BYDAY=-1SU;BYMONTH=3
TZNAME:CEST
END:DAYLIGHT
END:VTIMEZONE
BEGIN:VEVENT
UID:20261212T093000-7457@evangelische-termine.de
DTSTAMP:20260420T132752Z
DESCRIPTION:\nFür Engagierte: Ja\nVeranstaltungsort: Geistliches Zentrum Ni
 eder-Weisel\nJohanniterstraße 7\n35510 Butzbach\nFormat der Veranstaltung:
  Präsenzveranstaltung\nKurzbeschreibung / Untertitel: „Prüft die Geister\,
  ob sie aus Gott sind.“ (1. Johannesbrief 4\,1)\nAusführliche Beschreibung
 : Die Unterscheidung der Geister hat eine lange Tradition in der Geschicht
 e der Theologie und Spiritualität. In der Bibel ist oft von dieser Untersc
 heidung die Rede\, vor allem in der Briefliteratur des Neuen Testaments. „
 Glaubt nicht einem jeden Geist\, sondern prüft die Geister\, ob sie aus Go
 tt sind“\, so die zeitlose Empfehlung aus dem 1. Johannesbrief. Heute frag
 en wir: Wie können wir in einer zunehmend verwirrenden Zeit Leitmotive für
  gute Entscheidungen finden – sowohl mit Blick auf das persönliche Leben a
 ls auch für Entscheidungsfindungen in der Kirche? Die Einübung in die Unte
 rscheidung der Geister setzt bei der Wahrnehmung der eigenen Lebenswirklic
 hkeiten an: Welche „Geister“ beschäftigen mich? Was sind meine inneren Ant
 reiber? Es geht um innere Regungen und Bewegungen\, die es zu erspüren und
  zu unterscheiden gilt.  Praktische Übungen\, biblische Impulse\, Referate
  und Freiraum für persönliche Reflexion wollen die Ahnung wecken\, dass da
 s Herzstück der Unterscheidung der Geister nicht eine Methode ist\, sonder
 n die persönliche Verbundenheit mit Gott. \n\nPraktische Übungen\, eine bi
 blische Besinnung auf den Ursprung der Unterscheidungslehre\, Freiraum für
  persönliche Reflexion – all dies möchte die Ahnung wecken\, dass das Herz
 stück der Unterscheidung der Geister nicht eine Methode ist\, sondern die 
 persönliche Verbundenheit mit Gott. \n\nLeitung: Johannes Misterek\, Pfarr
 er am Geistlichen Zentrum und Exerzitienbegleiter\n\nAnmeldung bis 27.11.2
 026\nInternetadresse: http://www.geistliches-zentrum-nieder-weisel.de\nKos
 ten: 50\,-€ (inkl. Mittagsimbiss\, Getränke und Kursgebühr)\nVeranstalter:
  Geistliches Zentrum Nieder-Weisel\nTelefonnummer bei Rückfragen zur Veran
 staltung: 06033 749246
DTSTART;TZID=Europe/Berlin:20261212T093000
DTEND;TZID=Europe/Berlin:20261212T163000
LOCATION:Butzbach: Geistliches Zentrum Nieder-Weisel
SUMMARY:Einübung in die Kunst\, die Geister zu unterscheiden :: „Prüft die 
 Geister\, ob sie aus Gott sind.“ (1. Johannesbrief 4\,1)
URL:https://termine.ekhn.de/veranstaltung_im_detail7457.html
END:VEVENT
END:VCALENDAR
