BEGIN:VCALENDAR
VERSION:2.0
PRODID:-//evangelische-termine.de//NONSGML kigkonsult.se iCalcreator 2.18//
CALSCALE:GREGORIAN
METHOD:PUBLISH
X-WR-CALNAME:iCal Evangelische-Termine 21.04.2026
X-WR-CALDESC:iCalender von Evangelische-Termine (21.04.2026)
X-WR-TIMEZONE:Europe/Berlin
X-MS-OLK-FORCEINSPECTOROPEN:TRUE
BEGIN:VTIMEZONE
TZID:Europe/Berlin
BEGIN:STANDARD
DTSTART:19701025T030000
TZOFFSETFROM:+0200
TZOFFSETTO:+0100
RRULE:FREQ=YEARLY;BYDAY=-1SU;BYMONTH=10
TZNAME:CET
END:STANDARD
BEGIN:DAYLIGHT
DTSTART:19700329T020000
TZOFFSETFROM:+0100
TZOFFSETTO:+0200
RRULE:FREQ=YEARLY;BYDAY=-1SU;BYMONTH=3
TZNAME:CEST
END:DAYLIGHT
END:VTIMEZONE
BEGIN:VEVENT
UID:20250707T000000-9363@evangelische-termine.de
DTSTAMP:20260421T015705Z
DESCRIPTION:\nKurzbeschreibung / Untertitel: Tagesaktionen in der Wetterau 
 für Jugendliche ab 13 Jahren\nAusführliche Beschreibung: Auch in diesem Ja
 hr haben wir wieder Ideen zusammengetragen\, um Teenager (ab 13 Jahre) ein
  gemeinsames Ferienprogramm in der ersten Sommerferienwoche anzubieten. Fü
 r 2025 sind folgende Aktionen sind im Angebot: \nMo\, 07.07. Kletterwald\n
 Di\, 08.07. Kanutour \nMi\, 09.07. Klippen klettern \nDo\, 10.07. Klimaweg
  & baden \n\nMan kann sich frei aussuche\, an welchen Aktionen man teilneh
 men möchte. Für jeden Tag ist ein Beitrag von 10 Euro zu leisten. \n\nFür 
 unsere Vorbereitungen brauchen wir genaue Anmeldezahlen. Wir bitten deshal
 b um schnelle Anmeldung. Die Kosten sind nur für Programm & Versicherung! 
 Für Verpflegung muss jeder selbst sorgen. Treffpunkt ist am Erasmus-Alberu
 s-Haus in Friedberg (Hanauer Straße 31).\n\nNach dem Anmeldeschluss am 22.
  Juni 2025 werden die Bestätigungen und Rechnungen verschickt. \n\nKletter
 wald: Dieses Jahr starten wir wieder im Seulberger Kletterwald. Dort kann 
 man seine Grenzen testen. Langeweile gibt es dort nicht und es bringt jede
  Menge Spaß! \nWer die schwerste Tour machen will\, muss drei Klimmzüge vo
 rmachen! \nTreffpunkt: 10:00 Uhr\, Ende: 17.00 Uhr\n\nKanutour: Die Kanuto
 ur geht dann von Odenhausen nach Gießen. Auf der Strecke sind kleine „Stro
 mschnellen“\, Bootsrutschen und eine beeindruckende Natur. Für den Abschni
 tt brauchen wir ca. fünf Stunden. Fun & Action\, wie wir es lieben! Danach
  geht es zurück Friedberg\, wo wir um ca. 18 Uhr eintreffen. \nTreffpunkt:
  10.00 Uhr\, Ende: 18.00 Uhr\n\nKlippen: Am Mittwoch klettern wir an den E
 schbacher Klippen bei Usingen. Hier könnt ihr angeseilt und gesichert neue
  Erfahrungen machen. Diejenigen\, die letztes Jahr dabei waren\, hatten vi
 el Spaß! \nTreffpunkt: 09.00 Uhr\, Ende: 18.00 Uhr\n\nKlimaweg: Bevor wir 
 am letzten Tag der Sommeraction im Wehrheim Schwimmbad baden\, relaxen ode
 r Beachvolleyball spielen\, drehen wir eine kleine Runde auf dem Klimaerle
 bnispfad. Dort können wir uns spielerisch mit diesem wichtigen Thema besch
 äftigen. \nTreffpunkt: 10.00 Uhr\, Ende: 18.00 Uhr\nInternetadresse: http:
 //www.evangelische-jugend-wetterau.de\nE-Mail: peter.bergmann@ekhn.de\nVer
 anstalter: Ev. Jugend im Dekanat Wetterau
DTSTART;VALUE=DATE:20250707
DTEND;VALUE=DATE:20250711
LOCATION:: Ohne Ort
SUMMARY:Sommeraction :: Tagesaktionen in der Wetterau für Jugendliche ab 13
  Jahren
URL:https://termine.ekhn.de/veranstaltung_im_detail9363.html
END:VEVENT
END:VCALENDAR
