BEGIN:VCALENDAR
VERSION:2.0
PRODID:-//evangelische-termine.de//NONSGML kigkonsult.se iCalcreator 2.18//
CALSCALE:GREGORIAN
METHOD:PUBLISH
X-WR-CALNAME:iCal Evangelische-Termine 21.04.2026
X-WR-CALDESC:iCalender von Evangelische-Termine (21.04.2026)
X-WR-TIMEZONE:Europe/Berlin
X-MS-OLK-FORCEINSPECTOROPEN:TRUE
BEGIN:VTIMEZONE
TZID:Europe/Berlin
BEGIN:STANDARD
DTSTART:19701025T030000
TZOFFSETFROM:+0200
TZOFFSETTO:+0100
RRULE:FREQ=YEARLY;BYDAY=-1SU;BYMONTH=10
TZNAME:CET
END:STANDARD
BEGIN:DAYLIGHT
DTSTART:19700329T020000
TZOFFSETFROM:+0100
TZOFFSETTO:+0200
RRULE:FREQ=YEARLY;BYDAY=-1SU;BYMONTH=3
TZNAME:CEST
END:DAYLIGHT
END:VTIMEZONE
BEGIN:VEVENT
UID:20260425T160000-16883@evangelische-termine.de
DTSTAMP:20260421T134726Z
DESCRIPTION:\nVeranstaltungsort: Evangelisches Dekanat Gießener Land Notfal
 lseelsorge im Landkreis Gießen\nFlachsbachweg 3\n35305 Grünberg\nKurzbesch
 reibung / Untertitel: Der Kurs besteht aus 3 Terminen: 25.04.\, 08.05. und
  09.05.2026\nAusführliche Beschreibung: Bitte beachten Sie die unterschied
 lichen Zeiten für Beginn und Ende: Freitag 16:00 - 21:00 Uhr und Samstag 9
 :30 - 17:30 Uhr\, Kursleitung und Kontakt: Michaela Ziegler und Thomas Sch
 ill\, E-Mail: notfallseelsorge-giessen@t-online.de\, Veranstalter: Zentrum
  Seelsorge und Beratung der KHN\, E-Mail: zsb@ekhn.de
DTSTART;TZID=Europe/Berlin:20260425T160000
DTEND;TZID=Europe/Berlin:20260425T210000
LOCATION:Grünberg: Evangelisches Dekanat Gießener Land Notfallseelsorge im 
 Landkreis Gießen
SUMMARY:Notfallseelsorge Ausbildungskurs - Modul 3
URL:https://termine.ekhn.de/veranstaltung_im_detail16883.html
END:VEVENT
END:VCALENDAR
