BEGIN:VCALENDAR
VERSION:2.0
PRODID:-//evangelische-termine.de//NONSGML kigkonsult.se iCalcreator 2.18//
CALSCALE:GREGORIAN
METHOD:PUBLISH
X-WR-CALNAME:iCal Evangelische-Termine 21.04.2026
X-WR-CALDESC:iCalender von Evangelische-Termine (21.04.2026)
X-WR-TIMEZONE:Europe/Berlin
X-MS-OLK-FORCEINSPECTOROPEN:TRUE
BEGIN:VTIMEZONE
TZID:Europe/Berlin
BEGIN:STANDARD
DTSTART:19701025T030000
TZOFFSETFROM:+0200
TZOFFSETTO:+0100
RRULE:FREQ=YEARLY;BYDAY=-1SU;BYMONTH=10
TZNAME:CET
END:STANDARD
BEGIN:DAYLIGHT
DTSTART:19700329T020000
TZOFFSETFROM:+0100
TZOFFSETTO:+0200
RRULE:FREQ=YEARLY;BYDAY=-1SU;BYMONTH=3
TZNAME:CEST
END:DAYLIGHT
END:VTIMEZONE
BEGIN:VEVENT
UID:20260612T160000-16884@evangelische-termine.de
DTSTAMP:20260421T134742Z
DESCRIPTION:\nVeranstaltungsort: Evangelisches Dekanat Gießener Land Notfal
 lseelsorge im Landkreis Gießen\nFlachsbachweg 3\n35305 Grünberg\nKurzbesch
 reibung / Untertitel: Der Kurs besteht aus 4 Terminen: 12.06.\, 13.06.\, 2
 6.06. und 27.06.2026\nAusführliche Beschreibung: Bitte beachten Sie die un
 terschiedlichen Zeiten für Beginn und Ende: Freitag 16:00 - 21:00 Uhr und 
 Samstag 9:30 - 17:30 Uhr\, Kursleitung und Kontakt: Michaela Ziegler und T
 homas Schill\, E-Mail: notfallseelsorge-giessen@t-online.de\, Veranstalter
 : Zentrum Seelsorge und Beratung der KHN\, E-Mail: zsb@ekhn.de
DTSTART;TZID=Europe/Berlin:20260612T160000
DTEND;TZID=Europe/Berlin:20260612T210000
LOCATION:Grünberg: Evangelisches Dekanat Gießener Land Notfallseelsorge im 
 Landkreis Gießen
SUMMARY:Notfallseelsorge Ausbildungskurs - Modul 4
URL:https://termine.ekhn.de/veranstaltung_im_detail16884.html
END:VEVENT
END:VCALENDAR
