BEGIN:VCALENDAR
VERSION:2.0
PRODID:-//evangelische-termine.de//NONSGML kigkonsult.se iCalcreator 2.18//
CALSCALE:GREGORIAN
METHOD:PUBLISH
X-WR-CALNAME:iCal Evangelische-Termine 25.04.2026
X-WR-CALDESC:iCalender von Evangelische-Termine (25.04.2026)
X-WR-TIMEZONE:Europe/Berlin
X-MS-OLK-FORCEINSPECTOROPEN:TRUE
BEGIN:VTIMEZONE
TZID:Europe/Berlin
BEGIN:STANDARD
DTSTART:19701025T030000
TZOFFSETFROM:+0200
TZOFFSETTO:+0100
RRULE:FREQ=YEARLY;BYDAY=-1SU;BYMONTH=10
TZNAME:CET
END:STANDARD
BEGIN:DAYLIGHT
DTSTART:19700329T020000
TZOFFSETFROM:+0100
TZOFFSETTO:+0200
RRULE:FREQ=YEARLY;BYDAY=-1SU;BYMONTH=3
TZNAME:CEST
END:DAYLIGHT
END:VTIMEZONE
BEGIN:VEVENT
UID:20260503T110000-20908@evangelische-termine.de
DTSTAMP:20260425T195505Z
DESCRIPTION:\nVeranstaltungsort: Evangelische Kirche Ober-Ramstadt\nFriedho
 fstraße\n64372 Ober-Ramstadt\nZu Fuß:\nDer Zugang zu Fuß zur Kirche aus Ri
 chtung Hauptstraße (Westen) ist von der Sackgasse der Grafenstraße aus\, v
 orbei am Heimatmuseum durch das untere Friedhofstor.\nAus Richtung Osten k
 ommt man durch das obere Friedhofstor in der Friedhofsstraße zur Kirche.\n
 \nMit dem Auto:\nWenn Sie mit dem Auto kommen\, parken Sie am besten auf d
 em großen Parkplatz Ecke Grabengasse / Friedhofstraße (gegenüber der Gärtn
 erei). Sie gehen vom Parkplatz aus ein Stück die Friedhofstraße entlang un
 d gehen dann links durch das obere Friedhofstor.\nDie Kirche liegt direkt 
 auf dem Friedhof. Sie ist eine von ganz wenigen Kirchen\, um die herum sic
 h noch ein Friedhof befindet. Der Friedhof mit der Kirche befindet sich zw
 ischen den Straßen Grafengasse\, Prälat-Diehl-Straße\, Schulstraße und Fri
 edhofstraße.\nKurzbeschreibung / Untertitel: ... der etwas andere Gottesdi
 enst\nAusführliche Beschreibung: Zum Sonntag mit dem lateinischen Namen „C
 antate“ (auf gut Deutsch: „Singt!“) haben sich Dekanatskantorin Carolin Ra
 schke und Pfarrer Joachim Schauß etwas Besonderes ausgedacht: \nAlle\, die
  diesen Gottesdienst in der Kirche mitfeiern\, dürfen sich ihre Lieblingsl
 ieder aus den beiden Gesangbüchern wünschen. \nUnd die werden wir dann spo
 ntan im Gottesdienst singen. \nDenn Singen ist einfach menschlich: Weil al
 le Menschen einen durchschnittlichen Stimmumfang von 24 Tönen haben\, obwo
 hl wir zum Sprechen eigentlich nur 5 brauchen.\nUnsere Stimme ist also für
 s Singen gemacht. Und wissenschaftlich ist erwiesen\, dass Singen Körper u
 nd Seele gut tut und das Immunsystem stärkt. Und das Beste: ganz unabhängi
 g davon\, ob Sie den richtigen Ton treffen oder komplett daneben liegen. 
 \nDeshalb: Come on\, let’s sing!\nZum Ausklang bei Fingerfood und Getränke
 n ist dann auch wieder Sprechen erlaubt\nGemeinde: Ober-Ramstadt\nGottesdi
 ensttyp: Gott-um-elf-Gottesdienst
DTSTART;TZID=Europe/Berlin:20260503T110000
DTEND;TZID=Europe/Berlin:20260503T120000
LOCATION:Ober-Ramstadt: Evangelische Kirche Ober-Ramstadt
SUMMARY:'Wunschlieder' - Musikalischer Gott-um-elf-Gottesdienst
URL:https://termine.ekhn.de/veranstaltung_im_detail20908.html
END:VEVENT
END:VCALENDAR
