BEGIN:VCALENDAR
VERSION:2.0
PRODID:-//evangelische-termine.de//NONSGML kigkonsult.se iCalcreator 2.18//
CALSCALE:GREGORIAN
METHOD:PUBLISH
X-WR-CALNAME:iCal Evangelische-Termine 22.04.2026
X-WR-CALDESC:iCalender von Evangelische-Termine (22.04.2026)
X-WR-TIMEZONE:Europe/Berlin
X-MS-OLK-FORCEINSPECTOROPEN:TRUE
BEGIN:VTIMEZONE
TZID:Europe/Berlin
BEGIN:STANDARD
DTSTART:19701025T030000
TZOFFSETFROM:+0200
TZOFFSETTO:+0100
RRULE:FREQ=YEARLY;BYDAY=-1SU;BYMONTH=10
TZNAME:CET
END:STANDARD
BEGIN:DAYLIGHT
DTSTART:19700329T020000
TZOFFSETFROM:+0100
TZOFFSETTO:+0200
RRULE:FREQ=YEARLY;BYDAY=-1SU;BYMONTH=3
TZNAME:CEST
END:DAYLIGHT
END:VTIMEZONE
BEGIN:VEVENT
UID:20260926T143000-20980@evangelische-termine.de
DTSTAMP:20260422T090451Z
DESCRIPTION:\nVeranstaltungsort: Gemeindezentrum Eiche\nDanziger Straße 1\n
 64372 Ober-Ramstadt\nKurzbeschreibung / Untertitel: für alle über 80 Jahre
 n\nAusführliche Beschreibung: In gemütlicher Runde können Sie Bekannte tre
 ffen\, bei einem Getränk und Gebäck werden Erinnerungen geteilt und es gib
 t bestimmt auch Neues zu entdecken und erfahren.\nWenn der Weg zu weit ode
 r zu beschwerlich für Sie ist\, bieten wir innerhalb Ober-Ramstadts einen 
 Hol- und Bring-Dienst an. Bitte sagen Sie uns\, wenn Sie sich anmelden\, o
 b Sie abgeholt werden möchten! Außerhalb Ober-Ramstadts ist das leider nic
 ht möglich.\n\nKosten: Keine\, eine Spende ist willkommen\nAnmeldung: fami
 lienzentrum.ober-ramstadt@ekhn.de oder 0157 - 88 28 05 55\nGemeinde: Ober-
 Ramstadt\nVeranstaltungstyp: Familienzentrum OR\; Senioren\nAngebotstyp: S
 enioren
DTSTART;TZID=Europe/Berlin:20260926T143000
DTEND;TZID=Europe/Berlin:20260926T153000
LOCATION:Ober-Ramstadt: Gemeindezentrum Eiche
SUMMARY:Plausch unter der Kastanie
URL:https://termine.ekhn.de/veranstaltung_im_detail20980.html
END:VEVENT
END:VCALENDAR
