BEGIN:VCALENDAR
VERSION:2.0
PRODID:-//evangelische-termine.de//NONSGML kigkonsult.se iCalcreator 2.18//
CALSCALE:GREGORIAN
METHOD:PUBLISH
X-WR-CALNAME:iCal Evangelische-Termine 21.04.2026
X-WR-CALDESC:iCalender von Evangelische-Termine (21.04.2026)
X-WR-TIMEZONE:Europe/Berlin
X-MS-OLK-FORCEINSPECTOROPEN:TRUE
BEGIN:VTIMEZONE
TZID:Europe/Berlin
BEGIN:STANDARD
DTSTART:19701025T030000
TZOFFSETFROM:+0200
TZOFFSETTO:+0100
RRULE:FREQ=YEARLY;BYDAY=-1SU;BYMONTH=10
TZNAME:CET
END:STANDARD
BEGIN:DAYLIGHT
DTSTART:19700329T020000
TZOFFSETFROM:+0100
TZOFFSETTO:+0200
RRULE:FREQ=YEARLY;BYDAY=-1SU;BYMONTH=3
TZNAME:CEST
END:DAYLIGHT
END:VTIMEZONE
BEGIN:VEVENT
UID:20260904T160000-23344@evangelische-termine.de
DTSTAMP:20260421T134727Z
DESCRIPTION:\nVeranstaltungsort: Rheinhessen\n55232 Alzey\nKurzbeschreibung
  / Untertitel: Der Kurs besteht aus zwei Wochenendkursen: 04. - 05.09.26 u
 nd 11. - 12.09.26\nAusführliche Beschreibung: Bitte beachten Sie die unter
 schiedlichen Zeiten für Beginn und Ende: Freitag 16:00 - 21:00 Uhr und Sam
 stag 9:30 - 17:30 Uhr\n\nKursleitung und Kontakt: Carolin Bollinger und Gu
 ntram König\, E-Mail: Carolin.Bollinger@bistum-mainz.de\, Guntram.Koenig@b
 istum-mainz.de\,
DTSTART;TZID=Europe/Berlin:20260904T160000
DTEND;TZID=Europe/Berlin:20260905T210000
LOCATION:Alzey: Rheinhessen
SUMMARY:Notfallseelsorge Ausbildungskurs - Modul 4
URL:https://termine.ekhn.de/veranstaltung_im_detail23344.html
END:VEVENT
END:VCALENDAR
