BEGIN:VCALENDAR
VERSION:2.0
PRODID:-//evangelische-termine.de//NONSGML kigkonsult.se iCalcreator 2.18//
CALSCALE:GREGORIAN
METHOD:PUBLISH
X-WR-CALNAME:iCal Evangelische-Termine 21.04.2026
X-WR-CALDESC:iCalender von Evangelische-Termine (21.04.2026)
X-WR-TIMEZONE:Europe/Berlin
X-MS-OLK-FORCEINSPECTOROPEN:TRUE
BEGIN:VTIMEZONE
TZID:Europe/Berlin
BEGIN:STANDARD
DTSTART:19701025T030000
TZOFFSETFROM:+0200
TZOFFSETTO:+0100
RRULE:FREQ=YEARLY;BYDAY=-1SU;BYMONTH=10
TZNAME:CET
END:STANDARD
BEGIN:DAYLIGHT
DTSTART:19700329T020000
TZOFFSETFROM:+0100
TZOFFSETTO:+0200
RRULE:FREQ=YEARLY;BYDAY=-1SU;BYMONTH=3
TZNAME:CEST
END:DAYLIGHT
END:VTIMEZONE
BEGIN:VEVENT
UID:20260529T160000-23346@evangelische-termine.de
DTSTAMP:20260421T134732Z
DESCRIPTION:\nVeranstaltungsort: Evangelisches Dekanat Darmstadt\nKiesstr. 
 14\n64283 Darmstadt\nKurzbeschreibung / Untertitel: Wochenendkurs: 29. - 3
 1.05.26\nAusführliche Beschreibung: Bitte beachten Sie die unterschiedlich
 en Zeiten für Beginn und Ende: Freitag 16:00 - 21:00 Uhr und Samstag/Sonnt
 ag 9:30 - 17:30 Uhr\n\nKursleitung und Kontakt: Julia Kratz Julia.Kratz@ek
 hn.de
DTSTART;TZID=Europe/Berlin:20260529T160000
DTEND;TZID=Europe/Berlin:20260531T210000
LOCATION:Darmstadt: Evangelisches Dekanat Darmstadt
SUMMARY:Notfallseelsorge Ausbildungskurs - Modul 2
URL:https://termine.ekhn.de/veranstaltung_im_detail23346.html
END:VEVENT
END:VCALENDAR
