BEGIN:VCALENDAR
VERSION:2.0
PRODID:-//evangelische-termine.de//NONSGML kigkonsult.se iCalcreator 2.18//
CALSCALE:GREGORIAN
METHOD:PUBLISH
X-WR-CALNAME:iCal Evangelische-Termine 22.04.2026
X-WR-CALDESC:iCalender von Evangelische-Termine (22.04.2026)
X-WR-TIMEZONE:Europe/Berlin
X-MS-OLK-FORCEINSPECTOROPEN:TRUE
BEGIN:VTIMEZONE
TZID:Europe/Berlin
BEGIN:STANDARD
DTSTART:19701025T030000
TZOFFSETFROM:+0200
TZOFFSETTO:+0100
RRULE:FREQ=YEARLY;BYDAY=-1SU;BYMONTH=10
TZNAME:CET
END:STANDARD
BEGIN:DAYLIGHT
DTSTART:19700329T020000
TZOFFSETFROM:+0100
TZOFFSETTO:+0200
RRULE:FREQ=YEARLY;BYDAY=-1SU;BYMONTH=3
TZNAME:CEST
END:DAYLIGHT
END:VTIMEZONE
BEGIN:VEVENT
UID:20260714T093000-25371@evangelische-termine.de
DTSTAMP:20260422T145012Z
DESCRIPTION:\nFür Engagierte: Nein\nVeranstaltungsort: Gemeindezentrum ev.-
 method. Kirche Neuenhain\nRother Weingartenweg 5\n65812 Bad Soden\nFormat 
 der Veranstaltung: Präsenzveranstaltung\nAusführliche Beschreibung: Die ne
 ugegründete Krabbelgruppe Neuenhain für Kinder von 0 – 2 Jahren und ihren 
 Eltern ist ein Gemeinschaftsprojekt der evangelischen und der evangelisch-
 methodistischen Kirchengemeinde.\nWir wollen gemeinsam spielen\, Spaß habe
 n\, singen\, lachen\, uns kennenlernen und Erfahrungen austauschen. Für kl
 eine Snacks und Getränke für die Erwachsenen ist gesorgt.\nHabt ihr Lust\,
  dann meldet euch gerne bei uns:\nDorothee Krämer\, Tel. 01573 6232001\nNi
 cole Rieck\, Tel. 0157 86761536\nWir treffen uns immer dienstags von 9.30 
 – 11.30 Uhr im KiKi-Raum der evangelisch-methodistischen Kirche Neuenhain 
 (Rother Weingartenweg 5\, 65812 Bad Soden-Neuenhain).\nDa die Krabbelgrupp
 e erst im Aufbau ist\, sind bislang noch kaum Spielgeräte vorhanden. Bitte
  daher vorerst Krabbeldecke und eigenes Spielzeug mitbringen. Wer gebrauch
 tes Spielzeug hat\, kann dieses gerne mitbringen. Wir sind für jede Spende
  dankbar.\nVeranstalter: Evangelische\, evangelisch-methodistische und kat
 holische Kirchengemeinde Neuenhain
DTSTART;TZID=Europe/Berlin:20260714T093000
DTEND;TZID=Europe/Berlin:20260714T113000
LOCATION:Bad Soden: Gemeindezentrum ev.-method. Kirche Neuenhain
SUMMARY:Krabbelgruppe Neuenhain
URL:https://termine.ekhn.de/veranstaltung_im_detail25371.html
END:VEVENT
END:VCALENDAR
