BEGIN:VCALENDAR
VERSION:2.0
PRODID:-//evangelische-termine.de//NONSGML kigkonsult.se iCalcreator 2.18//
CALSCALE:GREGORIAN
METHOD:PUBLISH
X-WR-CALNAME:iCal Evangelische-Termine 21.04.2026
X-WR-CALDESC:iCalender von Evangelische-Termine (21.04.2026)
X-WR-TIMEZONE:Europe/Berlin
X-MS-OLK-FORCEINSPECTOROPEN:TRUE
BEGIN:VTIMEZONE
TZID:Europe/Berlin
BEGIN:STANDARD
DTSTART:19701025T030000
TZOFFSETFROM:+0200
TZOFFSETTO:+0100
RRULE:FREQ=YEARLY;BYDAY=-1SU;BYMONTH=10
TZNAME:CET
END:STANDARD
BEGIN:DAYLIGHT
DTSTART:19700329T020000
TZOFFSETFROM:+0100
TZOFFSETTO:+0200
RRULE:FREQ=YEARLY;BYDAY=-1SU;BYMONTH=3
TZNAME:CEST
END:DAYLIGHT
END:VTIMEZONE
BEGIN:VEVENT
UID:20260508T160000-25563@evangelische-termine.de
DTSTAMP:20260421T134732Z
DESCRIPTION:\nVeranstaltungsort: Evangelischer Regionalverband Frankfurt un
 d Offenbach\nKurt-Schumacher-Str. 31\n60311 Frankfurt am Main\nKurzbeschre
 ibung / Untertitel: Dieser Kurs besteht aus drei Terminen: 08.05.\, 09.05.
  und 10.05.2026\nAusführliche Beschreibung: Bitte beachten Sie die untersc
 hiedlichen Zeiten für Beginn und Ende: Freitag 16:00 - 21:00 Uhr und Samst
 ag/Sonntag 9:30 - 17:30 Uhr.\nKursleitung und Kontakt: Silke Bründermann s
 ilke.bruendermann@diakonie-frankfurt-offenbach.de \, Veranstalter: Zentrum
  Seelsorge und Beratung der KHN\, E-Mail: zsb@ekhn.de
DTSTART;TZID=Europe/Berlin:20260508T160000
DTEND;TZID=Europe/Berlin:20260510T173000
LOCATION:Frankfurt am Main: Evangelischer Regionalverband Frankfurt und Off
 enbach
SUMMARY:Notfallseelsorge Ausbildungskurs - Modul 4
URL:https://termine.ekhn.de/veranstaltung_im_detail25563.html
END:VEVENT
END:VCALENDAR
