BEGIN:VCALENDAR
VERSION:2.0
PRODID:-//evangelische-termine.de//NONSGML kigkonsult.se iCalcreator 2.18//
CALSCALE:GREGORIAN
METHOD:PUBLISH
X-WR-CALNAME:iCal Evangelische-Termine 22.04.2026
X-WR-CALDESC:iCalender von Evangelische-Termine (22.04.2026)
X-WR-TIMEZONE:Europe/Berlin
X-MS-OLK-FORCEINSPECTOROPEN:TRUE
BEGIN:VTIMEZONE
TZID:Europe/Berlin
BEGIN:STANDARD
DTSTART:19701025T030000
TZOFFSETFROM:+0200
TZOFFSETTO:+0100
RRULE:FREQ=YEARLY;BYDAY=-1SU;BYMONTH=10
TZNAME:CET
END:STANDARD
BEGIN:DAYLIGHT
DTSTART:19700329T020000
TZOFFSETFROM:+0100
TZOFFSETTO:+0200
RRULE:FREQ=YEARLY;BYDAY=-1SU;BYMONTH=3
TZNAME:CEST
END:DAYLIGHT
END:VTIMEZONE
BEGIN:VEVENT
UID:20260924T193000-27162@evangelische-termine.de
DTSTAMP:20260422T090448Z
DESCRIPTION:\nVeranstaltungsort: Stadthalle Ober-Ramstadt\nEntengasse 2\n64
 372 Ober-Ramstadt\nKurzbeschreibung / Untertitel: „Le Best of“\nAusführlic
 he Beschreibung: Auch 2026 verspricht „Donnerstags:Kultur“ wieder ein viel
 fältiges Programm. Clemens Bittlinger\, Pfarrer im Ruhestand\, organisiert
  auch weiterhin die erfolgreiche Reihe für das Evangelische Dekanat Darmst
 adt. Die Kulturreihe\, die in Zusammenarbeit mit der Evangelischen Kirchen
 gemeinde und der Stadt Ober-Ramstadt veranstaltet wird\, bietet eine bewäh
 rte Mischung aus Vorträgen\, Konzerten und Comedy. \nDer „bekannteste deut
 sche Franzose“ Alfons\, wie er sich nennt\, betritt am 24. September die B
 ühne in der Stadthalle mit seinem Comedy-Programm „Le Best of“.\n\nAb 12. 
 Januar 2026 können Einzeltickets für die jeweiligen Veranstaltungen erworb
 en werden. Bereits vorher können Abonnements erworben werden\, die alle fü
 nf Veranstaltungen in der Stadthalle Ober-Ramstadt zum Preis von 90 Euro u
 mfassen. Auch im Abo gibt es die Tickets einzeln\, so dass man sie auch nu
 r für eine bestimmte Veranstaltung verschenken kann. \nDie Doku-Abos und d
 ie Einzeltickets sind erhältlich bei \nBücher-Blitz in Ober-Ramstadt\, Ham
 mergasse 5\, Telefon 06154-3511\, \nBuchhandlung am Markt in Darmstadt\, M
 arktplatz 20\, Telefon 06151-295296\, \nund online unter www.ztix.de .\nGe
 meinde: Ober-Ramstadt\nVeranstaltungstyp: Musik+Kultur\; Donnerstags:Kultu
 r\; Frauen\; Männer\; Senioren\nAngebotstyp: Musik+Kultur\; Donnerstags:Ku
 ltur\; Frauen\; Männer\; Senioren
DTSTART;TZID=Europe/Berlin:20260924T193000
DTEND;TZID=Europe/Berlin:20260924T203000
LOCATION:Ober-Ramstadt: Stadthalle Ober-Ramstadt
SUMMARY:Donnerstags:Kultur mit 'Alfons' -der „bekannteste deutsche Franzose
 “
URL:https://termine.ekhn.de/veranstaltung_im_detail27162.html
END:VEVENT
END:VCALENDAR
