BEGIN:VCALENDAR
VERSION:2.0
PRODID:-//evangelische-termine.de//NONSGML kigkonsult.se iCalcreator 2.18//
CALSCALE:GREGORIAN
METHOD:PUBLISH
X-WR-CALNAME:iCal Evangelische-Termine 21.04.2026
X-WR-CALDESC:iCalender von Evangelische-Termine (21.04.2026)
X-WR-TIMEZONE:Europe/Berlin
X-MS-OLK-FORCEINSPECTOROPEN:TRUE
BEGIN:VTIMEZONE
TZID:Europe/Berlin
BEGIN:STANDARD
DTSTART:19701025T030000
TZOFFSETFROM:+0200
TZOFFSETTO:+0100
RRULE:FREQ=YEARLY;BYDAY=-1SU;BYMONTH=10
TZNAME:CET
END:STANDARD
BEGIN:DAYLIGHT
DTSTART:19700329T020000
TZOFFSETFROM:+0100
TZOFFSETTO:+0200
RRULE:FREQ=YEARLY;BYDAY=-1SU;BYMONTH=3
TZNAME:CEST
END:DAYLIGHT
END:VTIMEZONE
BEGIN:VEVENT
UID:20261126T193000-27163@evangelische-termine.de
DTSTAMP:20260421T172740Z
DESCRIPTION:\nVeranstaltungsort: Stadthalle Ober-Ramstadt\nEntengasse 2\n64
 372 Ober-Ramstadt\nKurzbeschreibung / Untertitel: „Weltjahresbestzeit“\nAu
 sführliche Beschreibung: Auch 2026 verspricht „Donnerstags:Kultur“ wieder 
 ein vielfältiges Programm. Clemens Bittlinger\, Pfarrer im Ruhestand\, org
 anisiert auch weiterhin die erfolgreiche Reihe für das Evangelische Dekana
 t Darmstadt. Die Kulturreihe\, die in Zusammenarbeit mit der Evangelischen
  Kirchengemeinde und der Stadt Ober-Ramstadt veranstaltet wird\, bietet ei
 ne bewährte Mischung aus Vorträgen\, Konzerten und Comedy. \nAm 26. Novemb
 er beschließt das Duo „Zwei Flügel“\, die Theologin Christina Brudereck un
 d der Pianist Ben Seipel\, mit seinem Programm „Weltjahresbestzeit“ den Do
 :Ku-Reigen 2026.\n\nAb 12. Januar 2026 können Einzeltickets für die jeweil
 igen Veranstaltungen erworben werden. Bereits vorher können Abonnements er
 worben werden\, die alle fünf Veranstaltungen in der Stadthalle Ober-Ramst
 adt zum Preis von 90 Euro umfassen. Auch im Abo gibt es die Tickets einzel
 n\, so dass man sie auch nur für eine bestimmte Veranstaltung verschenken 
 kann. \nDie Doku-Abos und die Einzeltickets sind erhältlich bei \nBücher-B
 litz in Ober-Ramstadt\, Hammergasse 5\, Telefon 06154-3511\, \nBuchhandlun
 g am Markt in Darmstadt\, Marktplatz 20\, Telefon 06151-295296\, \nund onl
 ine unter www.ztix.de .\nGemeinde: Ober-Ramstadt\nVeranstaltungstyp: Musik
 +Kultur\; Donnerstags:Kultur\; Frauen\; Männer\; Senioren\nAngebotstyp: Mu
 sik+Kultur\; Donnerstags:Kultur\; Frauen\; Männer\; Senioren
DTSTART;TZID=Europe/Berlin:20261126T193000
DTEND;TZID=Europe/Berlin:20261126T203000
LOCATION:Ober-Ramstadt: Stadthalle Ober-Ramstadt
SUMMARY:Donnerstags:Kultur mit 'Zwei Flügel'
URL:https://termine.ekhn.de/veranstaltung_im_detail27163.html
END:VEVENT
END:VCALENDAR
