BEGIN:VCALENDAR
VERSION:2.0
PRODID:-//evangelische-termine.de//NONSGML kigkonsult.se iCalcreator 2.18//
CALSCALE:GREGORIAN
METHOD:PUBLISH
X-WR-CALNAME:iCal Evangelische-Termine 22.04.2026
X-WR-CALDESC:iCalender von Evangelische-Termine (22.04.2026)
X-WR-TIMEZONE:Europe/Berlin
X-MS-OLK-FORCEINSPECTOROPEN:TRUE
BEGIN:VTIMEZONE
TZID:Europe/Berlin
BEGIN:STANDARD
DTSTART:19701025T030000
TZOFFSETFROM:+0200
TZOFFSETTO:+0100
RRULE:FREQ=YEARLY;BYDAY=-1SU;BYMONTH=10
TZNAME:CET
END:STANDARD
BEGIN:DAYLIGHT
DTSTART:19700329T020000
TZOFFSETFROM:+0100
TZOFFSETTO:+0200
RRULE:FREQ=YEARLY;BYDAY=-1SU;BYMONTH=3
TZNAME:CEST
END:DAYLIGHT
END:VTIMEZONE
BEGIN:VEVENT
UID:20260422T150000-30521@evangelische-termine.de
DTSTAMP:20260422T052129Z
DESCRIPTION:\nFür Engagierte: Nein\nVeranstaltungsort: Kleiner Gemeindesaal
  der Ev. Johanneskirche Offenbach\nLudwigstraße 133\n63067 Offenbach\nForm
 at der Veranstaltung: Präsenzveranstaltung\nAusführliche Beschreibung: Ges
 elliger Seniorennachmittag mit Kaffee und Gebäck\, angeregten Gesprächen u
 nd geistlichen Impulsen.\n\nSie sind herzlich eingeladen. Alle Konfessione
 n sind willkommen.\nEine Anmeldung ist nicht erforderlich.\nBild Alttext: 
 Weiße Porzellantasse mit Kaffee und Milchschaum\, dahinter ein kleiner Tel
 ler mit Gebäck
DTSTART;TZID=Europe/Berlin:20260422T150000
DTEND;TZID=Europe/Berlin:20260422T163000
LOCATION:Offenbach: Kleiner Gemeindesaal der Ev. Johanneskirche Offenbach
SUMMARY:Treffpunkt für ältere Menschen
URL:https://termine.ekhn.de/veranstaltung_im_detail30521.html
END:VEVENT
END:VCALENDAR
