BEGIN:VCALENDAR
VERSION:2.0
PRODID:-//evangelische-termine.de//NONSGML kigkonsult.se iCalcreator 2.18//
CALSCALE:GREGORIAN
METHOD:PUBLISH
X-WR-CALNAME:iCal Evangelische-Termine 22.04.2026
X-WR-CALDESC:iCalender von Evangelische-Termine (22.04.2026)
X-WR-TIMEZONE:Europe/Berlin
X-MS-OLK-FORCEINSPECTOROPEN:TRUE
BEGIN:VTIMEZONE
TZID:Europe/Berlin
BEGIN:STANDARD
DTSTART:19701025T030000
TZOFFSETFROM:+0200
TZOFFSETTO:+0100
RRULE:FREQ=YEARLY;BYDAY=-1SU;BYMONTH=10
TZNAME:CET
END:STANDARD
BEGIN:DAYLIGHT
DTSTART:19700329T020000
TZOFFSETFROM:+0100
TZOFFSETTO:+0200
RRULE:FREQ=YEARLY;BYDAY=-1SU;BYMONTH=3
TZNAME:CEST
END:DAYLIGHT
END:VTIMEZONE
BEGIN:VEVENT
UID:20260601T190000-30526@evangelische-termine.de
DTSTAMP:20260422T071904Z
DESCRIPTION:\nFür Engagierte: Nein\nVeranstaltungsort: Kleiner Gemeindesaal
  der Ev. Johanneskirche Offenbach\nLudwigstraße 133\n63067 Offenbach\nForm
 at der Veranstaltung: Präsenzveranstaltung\nAusführliche Beschreibung: Off
 ene Gesprächsrunde mit Pfarrer Thomas Jourdan zu allgemeinen Glaubensfrage
 n\, Bibeltexten\, Fragen zur Praxis der Kirchengemeinde\, des Gottesdienst
 es und der Theologie. Die Schwerpunkte werden in der Gruppe festgelegt.\nB
 ild Alttext: Zwei Gläser mit brennenden Teelichtern
DTSTART;TZID=Europe/Berlin:20260601T190000
DTEND;TZID=Europe/Berlin:20260601T210000
LOCATION:Offenbach: Kleiner Gemeindesaal der Ev. Johanneskirche Offenbach
SUMMARY:Abendgespräche
URL:https://termine.ekhn.de/veranstaltung_im_detail30526.html
END:VEVENT
END:VCALENDAR
