BEGIN:VCALENDAR
VERSION:2.0
PRODID:-//evangelische-termine.de//NONSGML kigkonsult.se iCalcreator 2.18//
CALSCALE:GREGORIAN
METHOD:PUBLISH
X-WR-CALNAME:iCal Evangelische-Termine 22.04.2026
X-WR-CALDESC:iCalender von Evangelische-Termine (22.04.2026)
X-WR-TIMEZONE:Europe/Berlin
X-MS-OLK-FORCEINSPECTOROPEN:TRUE
BEGIN:VTIMEZONE
TZID:Europe/Berlin
BEGIN:STANDARD
DTSTART:19701025T030000
TZOFFSETFROM:+0200
TZOFFSETTO:+0100
RRULE:FREQ=YEARLY;BYDAY=-1SU;BYMONTH=10
TZNAME:CET
END:STANDARD
BEGIN:DAYLIGHT
DTSTART:19700329T020000
TZOFFSETFROM:+0100
TZOFFSETTO:+0200
RRULE:FREQ=YEARLY;BYDAY=-1SU;BYMONTH=3
TZNAME:CEST
END:DAYLIGHT
END:VTIMEZONE
BEGIN:VEVENT
UID:20260530T180000-30533@evangelische-termine.de
DTSTAMP:20260422T052129Z
DESCRIPTION:\nFür Engagierte: Nein\nVeranstaltungsort: Ev. Johanneskirche O
 ffenbach\nLudwigstraße 133\n63067 Offenbach\nFormat der Veranstaltung: Prä
 senzveranstaltung\nKurzbeschreibung / Untertitel: Vom Aufgang der Sonne bi
 s zur Mondnacht\nAusführliche Beschreibung: Folgende Werke stehen auf dem 
 Programm:\nDavid Clegg:\n- Orgelfantasie 'Sonnenaufgang und Sonnenuntergan
 g in den Alpen'\nJürgen Blume: \n- Improvisation über „Die güldne Sonne vo
 ll Freud und Wonne\nsowie romantische Lieder von Schumann\, Adolf Hasse\, 
 Mozart\, Schubert und Brahms.\n\nMitwirkende: \nBirgit Ahrens\, Sopran\;\n
 Jürgen Blume\, Orgel und Klavier\;\nAnna Staedler und Kirsten Prinz\, Text
 e.\nBild Alttext: Feurige Sonne geht hinter Bergrücken auf\nKosten: Eintri
 tt frei
DTSTART;TZID=Europe/Berlin:20260530T180000
DTEND;TZID=Europe/Berlin:20260530T190000
LOCATION:Offenbach: Ev. Johanneskirche Offenbach
SUMMARY:Geistliche Abendmusik in der Johanneskirche
URL:https://termine.ekhn.de/veranstaltung_im_detail30533.html
END:VEVENT
END:VCALENDAR
